BEGIN:VCALENDAR
VERSION:2.0
PRODID:-//Fatmans - ECPv6.15.20//NONSGML v1.0//EN
CALSCALE:GREGORIAN
METHOD:PUBLISH
X-WR-CALNAME:Fatmans
X-ORIGINAL-URL:https://fatmansgurnee.com
X-WR-CALDESC:Events for Fatmans
REFRESH-INTERVAL;VALUE=DURATION:PT1H
X-Robots-Tag:noindex
X-PUBLISHED-TTL:PT1H
BEGIN:VTIMEZONE
TZID:America/Chicago
BEGIN:DAYLIGHT
TZOFFSETFROM:-0600
TZOFFSETTO:-0500
TZNAME:CDT
DTSTART:20240310T080000
END:DAYLIGHT
BEGIN:STANDARD
TZOFFSETFROM:-0500
TZOFFSETTO:-0600
TZNAME:CST
DTSTART:20241103T070000
END:STANDARD
BEGIN:DAYLIGHT
TZOFFSETFROM:-0600
TZOFFSETTO:-0500
TZNAME:CDT
DTSTART:20250309T080000
END:DAYLIGHT
BEGIN:STANDARD
TZOFFSETFROM:-0500
TZOFFSETTO:-0600
TZNAME:CST
DTSTART:20251102T070000
END:STANDARD
BEGIN:DAYLIGHT
TZOFFSETFROM:-0600
TZOFFSETTO:-0500
TZNAME:CDT
DTSTART:20260308T080000
END:DAYLIGHT
BEGIN:STANDARD
TZOFFSETFROM:-0500
TZOFFSETTO:-0600
TZNAME:CST
DTSTART:20261101T070000
END:STANDARD
END:VTIMEZONE
BEGIN:VEVENT
DTSTART;VALUE=DATE:20250413
DTEND;VALUE=DATE:20250414
DTSTAMP:20260425T053611
CREATED:20250228T212013Z
LAST-MODIFIED:20250301T155457Z
UID:25690-1744502400-1744588799@fatmansgurnee.com
SUMMARY:Fatmans Volleyball League 2025- Register Now!
DESCRIPTION:
URL:https://fatmansgurnee.com/event/fatmans-volleyball-league-2025-register-now-2025-04-13
LOCATION:Fatmans\, 36309 N Rte. 41\, Gurnee\, 60031\, United States
CATEGORIES:Events
ATTACH;FMTTYPE=image/jpeg:https://fatmansgurnee.com/wp-content/uploads/2018/03/2025-volleyball5x7-e1742051814283.jpg
END:VEVENT
BEGIN:VEVENT
DTSTART;TZID=America/Chicago:20250412T090000
DTEND;TZID=America/Chicago:20250412T120000
DTSTAMP:20260425T053611
CREATED:20250315T152513Z
LAST-MODIFIED:20250315T152513Z
UID:25853-1744448400-1744459200@fatmansgurnee.com
SUMMARY:Saturday Breakfast at Fatmans
DESCRIPTION:
URL:https://fatmansgurnee.com/event/saturday-breakfast-at-fatmans-2025-04-12
LOCATION:Fatmans\, 36309 N Rte. 41\, Gurnee\, 60031\, United States
CATEGORIES:Specials
ATTACH;FMTTYPE=image/png:https://fatmansgurnee.com/wp-content/uploads/2025/03/Fatmans-Saturday-Breakfast-3-2025-5x7-2-e1742051682585.png
END:VEVENT
BEGIN:VEVENT
DTSTART;VALUE=DATE:20250411
DTEND;VALUE=DATE:20250412
DTSTAMP:20260425T053611
CREATED:20250315T152240Z
LAST-MODIFIED:20250315T152240Z
UID:25830-1744329600-1744415999@fatmansgurnee.com
SUMMARY:Friday Specials at Fatmans
DESCRIPTION:
URL:https://fatmansgurnee.com/event/friday-specials-at-fatmans-2025-04-11
LOCATION:Fatmans\, 36309 N Rte. 41\, Gurnee\, 60031\, United States
CATEGORIES:Specials
ATTACH;FMTTYPE=image/png:https://fatmansgurnee.com/wp-content/uploads/2025/03/Fatmans-Friday-Special-3-2025-e1742051755695.png
END:VEVENT
BEGIN:VEVENT
DTSTART;VALUE=DATE:20250410
DTEND;VALUE=DATE:20250411
DTSTAMP:20260425T053611
CREATED:20250315T151822Z
LAST-MODIFIED:20250315T151822Z
UID:25823-1744243200-1744329599@fatmansgurnee.com
SUMMARY:Thursday Specials at Fatmans
DESCRIPTION:
URL:https://fatmansgurnee.com/event/thursday-specials-at-fatmans-2025-04-10
LOCATION:Fatmans\, 36309 N Rte. 41\, Gurnee\, 60031\, United States
ATTACH;FMTTYPE=image/png:https://fatmansgurnee.com/wp-content/uploads/2025/03/Fatmans-Thursday-Specials-3-2025-e1742051622717.png
END:VEVENT
BEGIN:VEVENT
DTSTART;VALUE=DATE:20250409
DTEND;VALUE=DATE:20250410
DTSTAMP:20260425T053611
CREATED:20250315T151225Z
LAST-MODIFIED:20250315T151225Z
UID:25815-1744156800-1744243199@fatmansgurnee.com
SUMMARY:Wednesday Specials at Fatmans
DESCRIPTION:
URL:https://fatmansgurnee.com/event/wednesday-specials-at-fatmans-2025-04-09
LOCATION:Fatmans\, 36309 N Rte. 41\, Gurnee\, 60031\, United States
CATEGORIES:Specials
ATTACH;FMTTYPE=image/png:https://fatmansgurnee.com/wp-content/uploads/2025/03/Fatmans-Wednesday-Special-e1742051707204.png
END:VEVENT
BEGIN:VEVENT
DTSTART;VALUE=DATE:20250408
DTEND;VALUE=DATE:20250409
DTSTAMP:20260425T053611
CREATED:20250315T151019Z
LAST-MODIFIED:20250315T151019Z
UID:25859-1744070400-1744156799@fatmansgurnee.com
SUMMARY:Tuesday Specials at Fatmans
DESCRIPTION:
URL:https://fatmansgurnee.com/event/tuesday-specials-at-fatmans-2025-04-08
LOCATION:Fatmans\, 36309 N Rte. 41\, Gurnee\, 60031\, United States
CATEGORIES:Specials
ATTACH;FMTTYPE=image/png:https://fatmansgurnee.com/wp-content/uploads/2025/03/Fatmans-Tuesday-Special-e1742051727969.png
END:VEVENT
BEGIN:VEVENT
DTSTART;VALUE=DATE:20250408
DTEND;VALUE=DATE:20250409
DTSTAMP:20260425T053611
CREATED:20250228T211831Z
LAST-MODIFIED:20250228T211831Z
UID:25681-1744070400-1744156799@fatmansgurnee.com
SUMMARY:Fatmans Bags League 2025- Register Now!
DESCRIPTION:
URL:https://fatmansgurnee.com/event/fatmans-bags-league-2025-register-now-2025-04-08
LOCATION:Fatmans\, 36309 N Rte. 41\, Gurnee\, 60031\, United States
CATEGORIES:Events
ATTACH;FMTTYPE=image/jpeg:https://fatmansgurnee.com/wp-content/uploads/2023/02/fatmans_Bags-League-2025-5x7-1-e1742051845361.jpg
END:VEVENT
BEGIN:VEVENT
DTSTART;VALUE=DATE:20250407
DTEND;VALUE=DATE:20250408
DTSTAMP:20260425T053611
CREATED:20250315T153439Z
LAST-MODIFIED:20250315T153439Z
UID:25867-1743984000-1744070399@fatmansgurnee.com
SUMMARY:Monday Specials at Fatmans
DESCRIPTION:
URL:https://fatmansgurnee.com/event/monday-specials-at-fatmans-2025-04-07
LOCATION:Fatmans\, 36309 N Rte. 41\, Gurnee\, 60031\, United States
CATEGORIES:Specials
ATTACH;FMTTYPE=image/jpeg:https://fatmansgurnee.com/wp-content/uploads/2024/10/Fatmans-Monday-Special-scaled-e1730250809610.jpg
END:VEVENT
BEGIN:VEVENT
DTSTART;TZID=America/Chicago:20250406T090000
DTEND;TZID=America/Chicago:20250406T120000
DTSTAMP:20260425T053611
CREATED:20250315T152748Z
LAST-MODIFIED:20250315T152748Z
UID:25845-1743930000-1743940800@fatmansgurnee.com
SUMMARY:Sunday Breakfast at Fatmans
DESCRIPTION:
URL:https://fatmansgurnee.com/event/sunday-breakfast-at-fatmans-2025-04-06
LOCATION:Fatmans\, 36309 N Rte. 41\, Gurnee\, 60031\, United States
CATEGORIES:Specials
ATTACH;FMTTYPE=image/png:https://fatmansgurnee.com/wp-content/uploads/2025/03/Fatmans-Sunday-Breakfast-3-2025-5x7-1-e1742051646350.png
END:VEVENT
BEGIN:VEVENT
DTSTART;VALUE=DATE:20250406
DTEND;VALUE=DATE:20250407
DTSTAMP:20260425T053611
CREATED:20250228T212013Z
LAST-MODIFIED:20250301T155457Z
UID:25689-1743897600-1743983999@fatmansgurnee.com
SUMMARY:Fatmans Volleyball League 2025- Register Now!
DESCRIPTION:
URL:https://fatmansgurnee.com/event/fatmans-volleyball-league-2025-register-now-2025-04-06
LOCATION:Fatmans\, 36309 N Rte. 41\, Gurnee\, 60031\, United States
CATEGORIES:Events
ATTACH;FMTTYPE=image/jpeg:https://fatmansgurnee.com/wp-content/uploads/2018/03/2025-volleyball5x7-e1742051814283.jpg
END:VEVENT
BEGIN:VEVENT
DTSTART;TZID=America/Chicago:20250405T090000
DTEND;TZID=America/Chicago:20250405T120000
DTSTAMP:20260425T053611
CREATED:20250315T152513Z
LAST-MODIFIED:20250315T152513Z
UID:25852-1743843600-1743854400@fatmansgurnee.com
SUMMARY:Saturday Breakfast at Fatmans
DESCRIPTION:
URL:https://fatmansgurnee.com/event/saturday-breakfast-at-fatmans-2025-04-05
LOCATION:Fatmans\, 36309 N Rte. 41\, Gurnee\, 60031\, United States
CATEGORIES:Specials
ATTACH;FMTTYPE=image/png:https://fatmansgurnee.com/wp-content/uploads/2025/03/Fatmans-Saturday-Breakfast-3-2025-5x7-2-e1742051682585.png
END:VEVENT
BEGIN:VEVENT
DTSTART;VALUE=DATE:20250404
DTEND;VALUE=DATE:20250405
DTSTAMP:20260425T053611
CREATED:20250315T152240Z
LAST-MODIFIED:20250315T152240Z
UID:25829-1743724800-1743811199@fatmansgurnee.com
SUMMARY:Friday Specials at Fatmans
DESCRIPTION:
URL:https://fatmansgurnee.com/event/friday-specials-at-fatmans-2025-04-04
LOCATION:Fatmans\, 36309 N Rte. 41\, Gurnee\, 60031\, United States
CATEGORIES:Specials
ATTACH;FMTTYPE=image/png:https://fatmansgurnee.com/wp-content/uploads/2025/03/Fatmans-Friday-Special-3-2025-e1742051755695.png
END:VEVENT
BEGIN:VEVENT
DTSTART;VALUE=DATE:20250403
DTEND;VALUE=DATE:20250404
DTSTAMP:20260425T053611
CREATED:20250315T151822Z
LAST-MODIFIED:20250315T151822Z
UID:25822-1743638400-1743724799@fatmansgurnee.com
SUMMARY:Thursday Specials at Fatmans
DESCRIPTION:
URL:https://fatmansgurnee.com/event/thursday-specials-at-fatmans-2025-04-03
LOCATION:Fatmans\, 36309 N Rte. 41\, Gurnee\, 60031\, United States
ATTACH;FMTTYPE=image/png:https://fatmansgurnee.com/wp-content/uploads/2025/03/Fatmans-Thursday-Specials-3-2025-e1742051622717.png
END:VEVENT
BEGIN:VEVENT
DTSTART;VALUE=DATE:20250402
DTEND;VALUE=DATE:20250403
DTSTAMP:20260425T053611
CREATED:20250315T151225Z
LAST-MODIFIED:20250315T151225Z
UID:25814-1743552000-1743638399@fatmansgurnee.com
SUMMARY:Wednesday Specials at Fatmans
DESCRIPTION:
URL:https://fatmansgurnee.com/event/wednesday-specials-at-fatmans-2025-04-02
LOCATION:Fatmans\, 36309 N Rte. 41\, Gurnee\, 60031\, United States
CATEGORIES:Specials
ATTACH;FMTTYPE=image/png:https://fatmansgurnee.com/wp-content/uploads/2025/03/Fatmans-Wednesday-Special-e1742051707204.png
END:VEVENT
BEGIN:VEVENT
DTSTART;VALUE=DATE:20250401
DTEND;VALUE=DATE:20250402
DTSTAMP:20260425T053611
CREATED:20250315T151019Z
LAST-MODIFIED:20250315T151019Z
UID:25858-1743465600-1743551999@fatmansgurnee.com
SUMMARY:Tuesday Specials at Fatmans
DESCRIPTION:
URL:https://fatmansgurnee.com/event/tuesday-specials-at-fatmans-2025-04-01
LOCATION:Fatmans\, 36309 N Rte. 41\, Gurnee\, 60031\, United States
CATEGORIES:Specials
ATTACH;FMTTYPE=image/png:https://fatmansgurnee.com/wp-content/uploads/2025/03/Fatmans-Tuesday-Special-e1742051727969.png
END:VEVENT
BEGIN:VEVENT
DTSTART;VALUE=DATE:20250401
DTEND;VALUE=DATE:20250402
DTSTAMP:20260425T053611
CREATED:20250228T211831Z
LAST-MODIFIED:20250228T211831Z
UID:25680-1743465600-1743551999@fatmansgurnee.com
SUMMARY:Fatmans Bags League 2025- Register Now!
DESCRIPTION:
URL:https://fatmansgurnee.com/event/fatmans-bags-league-2025-register-now-2025-04-01
LOCATION:Fatmans\, 36309 N Rte. 41\, Gurnee\, 60031\, United States
CATEGORIES:Events
ATTACH;FMTTYPE=image/jpeg:https://fatmansgurnee.com/wp-content/uploads/2023/02/fatmans_Bags-League-2025-5x7-1-e1742051845361.jpg
END:VEVENT
BEGIN:VEVENT
DTSTART;VALUE=DATE:20250331
DTEND;VALUE=DATE:20250401
DTSTAMP:20260425T053611
CREATED:20250315T153439Z
LAST-MODIFIED:20250315T153439Z
UID:25866-1743379200-1743465599@fatmansgurnee.com
SUMMARY:Monday Specials at Fatmans
DESCRIPTION:
URL:https://fatmansgurnee.com/event/monday-specials-at-fatmans-2025-03-31
LOCATION:Fatmans\, 36309 N Rte. 41\, Gurnee\, 60031\, United States
CATEGORIES:Specials
ATTACH;FMTTYPE=image/jpeg:https://fatmansgurnee.com/wp-content/uploads/2024/10/Fatmans-Monday-Special-scaled-e1730250809610.jpg
END:VEVENT
BEGIN:VEVENT
DTSTART;TZID=America/Chicago:20250330T090000
DTEND;TZID=America/Chicago:20250330T120000
DTSTAMP:20260425T053611
CREATED:20250315T152748Z
LAST-MODIFIED:20250315T152748Z
UID:25844-1743325200-1743336000@fatmansgurnee.com
SUMMARY:Sunday Breakfast at Fatmans
DESCRIPTION:
URL:https://fatmansgurnee.com/event/sunday-breakfast-at-fatmans-2025-03-30
LOCATION:Fatmans\, 36309 N Rte. 41\, Gurnee\, 60031\, United States
CATEGORIES:Specials
ATTACH;FMTTYPE=image/png:https://fatmansgurnee.com/wp-content/uploads/2025/03/Fatmans-Sunday-Breakfast-3-2025-5x7-1-e1742051646350.png
END:VEVENT
BEGIN:VEVENT
DTSTART;VALUE=DATE:20250330
DTEND;VALUE=DATE:20250331
DTSTAMP:20260425T053611
CREATED:20250228T212013Z
LAST-MODIFIED:20250301T155456Z
UID:25688-1743292800-1743379199@fatmansgurnee.com
SUMMARY:Fatmans Volleyball League 2025- Register Now!
DESCRIPTION:
URL:https://fatmansgurnee.com/event/fatmans-volleyball-league-2025-register-now-2025-03-30
LOCATION:Fatmans\, 36309 N Rte. 41\, Gurnee\, 60031\, United States
CATEGORIES:Events
ATTACH;FMTTYPE=image/jpeg:https://fatmansgurnee.com/wp-content/uploads/2018/03/2025-volleyball5x7-e1742051814283.jpg
END:VEVENT
BEGIN:VEVENT
DTSTART;TZID=America/Chicago:20250329T090000
DTEND;TZID=America/Chicago:20250329T120000
DTSTAMP:20260425T053611
CREATED:20250315T152513Z
LAST-MODIFIED:20250315T152513Z
UID:25851-1743238800-1743249600@fatmansgurnee.com
SUMMARY:Saturday Breakfast at Fatmans
DESCRIPTION:
URL:https://fatmansgurnee.com/event/saturday-breakfast-at-fatmans-2025-03-29
LOCATION:Fatmans\, 36309 N Rte. 41\, Gurnee\, 60031\, United States
CATEGORIES:Specials
ATTACH;FMTTYPE=image/png:https://fatmansgurnee.com/wp-content/uploads/2025/03/Fatmans-Saturday-Breakfast-3-2025-5x7-2-e1742051682585.png
END:VEVENT
BEGIN:VEVENT
DTSTART;VALUE=DATE:20250328
DTEND;VALUE=DATE:20250329
DTSTAMP:20260425T053611
CREATED:20250315T152240Z
LAST-MODIFIED:20250315T152240Z
UID:25828-1743120000-1743206399@fatmansgurnee.com
SUMMARY:Friday Specials at Fatmans
DESCRIPTION:
URL:https://fatmansgurnee.com/event/friday-specials-at-fatmans-2025-03-28
LOCATION:Fatmans\, 36309 N Rte. 41\, Gurnee\, 60031\, United States
CATEGORIES:Specials
ATTACH;FMTTYPE=image/png:https://fatmansgurnee.com/wp-content/uploads/2025/03/Fatmans-Friday-Special-3-2025-e1742051755695.png
END:VEVENT
BEGIN:VEVENT
DTSTART;VALUE=DATE:20250327
DTEND;VALUE=DATE:20250328
DTSTAMP:20260425T053611
CREATED:20250315T151822Z
LAST-MODIFIED:20250315T151822Z
UID:25821-1743033600-1743119999@fatmansgurnee.com
SUMMARY:Thursday Specials at Fatmans
DESCRIPTION:
URL:https://fatmansgurnee.com/event/thursday-specials-at-fatmans-2025-03-27
LOCATION:Fatmans\, 36309 N Rte. 41\, Gurnee\, 60031\, United States
ATTACH;FMTTYPE=image/png:https://fatmansgurnee.com/wp-content/uploads/2025/03/Fatmans-Thursday-Specials-3-2025-e1742051622717.png
END:VEVENT
BEGIN:VEVENT
DTSTART;VALUE=DATE:20250326
DTEND;VALUE=DATE:20250327
DTSTAMP:20260425T053611
CREATED:20250315T151225Z
LAST-MODIFIED:20250315T151225Z
UID:25813-1742947200-1743033599@fatmansgurnee.com
SUMMARY:Wednesday Specials at Fatmans
DESCRIPTION:
URL:https://fatmansgurnee.com/event/wednesday-specials-at-fatmans-2025-03-26
LOCATION:Fatmans\, 36309 N Rte. 41\, Gurnee\, 60031\, United States
CATEGORIES:Specials
ATTACH;FMTTYPE=image/png:https://fatmansgurnee.com/wp-content/uploads/2025/03/Fatmans-Wednesday-Special-e1742051707204.png
END:VEVENT
BEGIN:VEVENT
DTSTART;VALUE=DATE:20250325
DTEND;VALUE=DATE:20250326
DTSTAMP:20260425T053611
CREATED:20250315T151019Z
LAST-MODIFIED:20250315T151019Z
UID:25857-1742860800-1742947199@fatmansgurnee.com
SUMMARY:Tuesday Specials at Fatmans
DESCRIPTION:
URL:https://fatmansgurnee.com/event/tuesday-specials-at-fatmans-2025-03-25
LOCATION:Fatmans\, 36309 N Rte. 41\, Gurnee\, 60031\, United States
CATEGORIES:Specials
ATTACH;FMTTYPE=image/png:https://fatmansgurnee.com/wp-content/uploads/2025/03/Fatmans-Tuesday-Special-e1742051727969.png
END:VEVENT
BEGIN:VEVENT
DTSTART;VALUE=DATE:20250325
DTEND;VALUE=DATE:20250326
DTSTAMP:20260425T053611
CREATED:20250228T211831Z
LAST-MODIFIED:20250228T211831Z
UID:25679-1742860800-1742947199@fatmansgurnee.com
SUMMARY:Fatmans Bags League 2025- Register Now!
DESCRIPTION:
URL:https://fatmansgurnee.com/event/fatmans-bags-league-2025-register-now-2025-03-25
LOCATION:Fatmans\, 36309 N Rte. 41\, Gurnee\, 60031\, United States
CATEGORIES:Events
ATTACH;FMTTYPE=image/jpeg:https://fatmansgurnee.com/wp-content/uploads/2023/02/fatmans_Bags-League-2025-5x7-1-e1742051845361.jpg
END:VEVENT
BEGIN:VEVENT
DTSTART;VALUE=DATE:20250324
DTEND;VALUE=DATE:20250325
DTSTAMP:20260425T053611
CREATED:20250315T153439Z
LAST-MODIFIED:20250315T153439Z
UID:25865-1742774400-1742860799@fatmansgurnee.com
SUMMARY:Monday Specials at Fatmans
DESCRIPTION:
URL:https://fatmansgurnee.com/event/monday-specials-at-fatmans-2025-03-24
LOCATION:Fatmans\, 36309 N Rte. 41\, Gurnee\, 60031\, United States
CATEGORIES:Specials
ATTACH;FMTTYPE=image/jpeg:https://fatmansgurnee.com/wp-content/uploads/2024/10/Fatmans-Monday-Special-scaled-e1730250809610.jpg
END:VEVENT
BEGIN:VEVENT
DTSTART;TZID=America/Chicago:20250323T090000
DTEND;TZID=America/Chicago:20250323T120000
DTSTAMP:20260425T053611
CREATED:20250315T152748Z
LAST-MODIFIED:20250315T152748Z
UID:25843-1742720400-1742731200@fatmansgurnee.com
SUMMARY:Sunday Breakfast at Fatmans
DESCRIPTION:
URL:https://fatmansgurnee.com/event/sunday-breakfast-at-fatmans-2025-03-23
LOCATION:Fatmans\, 36309 N Rte. 41\, Gurnee\, 60031\, United States
CATEGORIES:Specials
ATTACH;FMTTYPE=image/png:https://fatmansgurnee.com/wp-content/uploads/2025/03/Fatmans-Sunday-Breakfast-3-2025-5x7-1-e1742051646350.png
END:VEVENT
BEGIN:VEVENT
DTSTART;VALUE=DATE:20250323
DTEND;VALUE=DATE:20250324
DTSTAMP:20260425T053611
CREATED:20250228T212013Z
LAST-MODIFIED:20250301T155456Z
UID:25687-1742688000-1742774399@fatmansgurnee.com
SUMMARY:Fatmans Volleyball League 2025- Register Now!
DESCRIPTION:
URL:https://fatmansgurnee.com/event/fatmans-volleyball-league-2025-register-now-2025-03-23
LOCATION:Fatmans\, 36309 N Rte. 41\, Gurnee\, 60031\, United States
CATEGORIES:Events
ATTACH;FMTTYPE=image/jpeg:https://fatmansgurnee.com/wp-content/uploads/2018/03/2025-volleyball5x7-e1742051814283.jpg
END:VEVENT
BEGIN:VEVENT
DTSTART;TZID=America/Chicago:20250322T090000
DTEND;TZID=America/Chicago:20250322T120000
DTSTAMP:20260425T053611
CREATED:20250315T152513Z
LAST-MODIFIED:20250315T152513Z
UID:25850-1742634000-1742644800@fatmansgurnee.com
SUMMARY:Saturday Breakfast at Fatmans
DESCRIPTION:
URL:https://fatmansgurnee.com/event/saturday-breakfast-at-fatmans-2025-03-22
LOCATION:Fatmans\, 36309 N Rte. 41\, Gurnee\, 60031\, United States
CATEGORIES:Specials
ATTACH;FMTTYPE=image/png:https://fatmansgurnee.com/wp-content/uploads/2025/03/Fatmans-Saturday-Breakfast-3-2025-5x7-2-e1742051682585.png
END:VEVENT
BEGIN:VEVENT
DTSTART;VALUE=DATE:20250321
DTEND;VALUE=DATE:20250322
DTSTAMP:20260425T053611
CREATED:20250315T152240Z
LAST-MODIFIED:20250315T152240Z
UID:25826-1742515200-1742601599@fatmansgurnee.com
SUMMARY:Friday Specials at Fatmans
DESCRIPTION:
URL:https://fatmansgurnee.com/event/friday-specials-at-fatmans
LOCATION:Fatmans\, 36309 N Rte. 41\, Gurnee\, 60031\, United States
CATEGORIES:Specials
ATTACH;FMTTYPE=image/png:https://fatmansgurnee.com/wp-content/uploads/2025/03/Fatmans-Friday-Special-3-2025-e1742051755695.png
END:VEVENT
END:VCALENDAR