BEGIN:VCALENDAR
VERSION:2.0
PRODID:-//Fatmans - ECPv6.15.20//NONSGML v1.0//EN
CALSCALE:GREGORIAN
METHOD:PUBLISH
X-ORIGINAL-URL:https://fatmansgurnee.com
X-WR-CALDESC:Events for Fatmans
REFRESH-INTERVAL;VALUE=DURATION:PT1H
X-Robots-Tag:noindex
X-PUBLISHED-TTL:PT1H
BEGIN:VTIMEZONE
TZID:America/Chicago
BEGIN:DAYLIGHT
TZOFFSETFROM:-0600
TZOFFSETTO:-0500
TZNAME:CDT
DTSTART:20240310T080000
END:DAYLIGHT
BEGIN:STANDARD
TZOFFSETFROM:-0500
TZOFFSETTO:-0600
TZNAME:CST
DTSTART:20241103T070000
END:STANDARD
BEGIN:DAYLIGHT
TZOFFSETFROM:-0600
TZOFFSETTO:-0500
TZNAME:CDT
DTSTART:20250309T080000
END:DAYLIGHT
BEGIN:STANDARD
TZOFFSETFROM:-0500
TZOFFSETTO:-0600
TZNAME:CST
DTSTART:20251102T070000
END:STANDARD
BEGIN:DAYLIGHT
TZOFFSETFROM:-0600
TZOFFSETTO:-0500
TZNAME:CDT
DTSTART:20260308T080000
END:DAYLIGHT
BEGIN:STANDARD
TZOFFSETFROM:-0500
TZOFFSETTO:-0600
TZNAME:CST
DTSTART:20261101T070000
END:STANDARD
END:VTIMEZONE
BEGIN:VEVENT
DTSTART;TZID=America/Chicago:20250525T130000
DTEND;TZID=America/Chicago:20250525T163000
DTSTAMP:20260422T183051
CREATED:20250505T033441Z
LAST-MODIFIED:20250505T033441Z
UID:26170-1748178000-1748190600@fatmansgurnee.com
SUMMARY:Blues Family Robinson Live Music at Fatmans
DESCRIPTION:
URL:https://fatmansgurnee.com/event/blues-family-robinson-live-music-at-fatmans
LOCATION:Fatmans\, 36309 N Rte. 41\, Gurnee\, 60031\, United States
CATEGORIES:Events,Live Music
END:VEVENT
BEGIN:VEVENT
DTSTART;TZID=America/Chicago:20250524T190000
DTEND;TZID=America/Chicago:20250524T223000
DTSTAMP:20260422T183051
CREATED:20250505T033316Z
LAST-MODIFIED:20250505T033316Z
UID:26168-1748113200-1748125800@fatmansgurnee.com
SUMMARY:Dave & Taro Live Music at Fatmans
DESCRIPTION:
URL:https://fatmansgurnee.com/event/dave-taro-live-music-at-fatmans
LOCATION:Fatmans\, 36309 N Rte. 41\, Gurnee\, 60031\, United States
CATEGORIES:Events,Live Music
END:VEVENT
BEGIN:VEVENT
DTSTART;TZID=America/Chicago:20250523T190000
DTEND;TZID=America/Chicago:20250523T223000
DTSTAMP:20260422T183051
CREATED:20250505T033151Z
LAST-MODIFIED:20250505T033151Z
UID:26166-1748026800-1748039400@fatmansgurnee.com
SUMMARY:Peter & The Versatiles Live Music at Fatmans
DESCRIPTION:
URL:https://fatmansgurnee.com/event/peter-the-versatiles-live-music-at-fatmans
LOCATION:Fatmans\, 36309 N Rte. 41\, Gurnee\, 60031\, United States
CATEGORIES:Events,Live Music
END:VEVENT
BEGIN:VEVENT
DTSTART;VALUE=DATE:20250521
DTEND;VALUE=DATE:20250522
DTSTAMP:20260422T183051
CREATED:20241030T013120Z
LAST-MODIFIED:20250501T014235Z
UID:26013-1747785600-1747871999@fatmansgurnee.com
SUMMARY:Bingo Night
DESCRIPTION:
URL:https://fatmansgurnee.com/event/bingo-night-2025-05-21
LOCATION:Fatmans\, 36309 N Rte. 41\, Gurnee\, 60031\, United States
CATEGORIES:Specials
ATTACH;FMTTYPE=image/jpeg:https://fatmansgurnee.com/wp-content/uploads/2024/10/Fatmans-Bingo-Night.jpeg
END:VEVENT
BEGIN:VEVENT
DTSTART;TZID=America/Chicago:20250517T190000
DTEND;TZID=America/Chicago:20250517T223000
DTSTAMP:20260422T183051
CREATED:20250505T033023Z
LAST-MODIFIED:20250505T033023Z
UID:26164-1747508400-1747521000@fatmansgurnee.com
SUMMARY:Roger That Live Music at Fatmans
DESCRIPTION:
URL:https://fatmansgurnee.com/event/roger-that-live-music-at-fatmans
LOCATION:Fatmans\, 36309 N Rte. 41\, Gurnee\, 60031\, United States
CATEGORIES:Events,Live Music
END:VEVENT
BEGIN:VEVENT
DTSTART;TZID=America/Chicago:20250516T190000
DTEND;TZID=America/Chicago:20250516T223000
DTSTAMP:20260422T183051
CREATED:20250505T032901Z
LAST-MODIFIED:20250505T032901Z
UID:26162-1747422000-1747434600@fatmansgurnee.com
SUMMARY:Indigo Canyon Live Music at Fatmans
DESCRIPTION:
URL:https://fatmansgurnee.com/event/indigo-canyon-live-music-at-fatmans
LOCATION:Fatmans\, 36309 N Rte. 41\, Gurnee\, 60031\, United States
CATEGORIES:Events,Live Music
END:VEVENT
BEGIN:VEVENT
DTSTART;VALUE=DATE:20250514
DTEND;VALUE=DATE:20250515
DTSTAMP:20260422T183051
CREATED:20241030T013120Z
LAST-MODIFIED:20250501T014234Z
UID:26012-1747180800-1747267199@fatmansgurnee.com
SUMMARY:Bingo Night
DESCRIPTION:
URL:https://fatmansgurnee.com/event/bingo-night-2025-05-14
LOCATION:Fatmans\, 36309 N Rte. 41\, Gurnee\, 60031\, United States
CATEGORIES:Specials
ATTACH;FMTTYPE=image/jpeg:https://fatmansgurnee.com/wp-content/uploads/2024/10/Fatmans-Bingo-Night.jpeg
END:VEVENT
BEGIN:VEVENT
DTSTART;VALUE=DATE:20250511
DTEND;VALUE=DATE:20250512
DTSTAMP:20260422T183051
CREATED:20250228T212013Z
LAST-MODIFIED:20250301T155459Z
UID:25694-1746921600-1747007999@fatmansgurnee.com
SUMMARY:Fatmans Volleyball League 2025- Register Now!
DESCRIPTION:
URL:https://fatmansgurnee.com/event/fatmans-volleyball-league-2025-register-now-2025-05-11
LOCATION:Fatmans\, 36309 N Rte. 41\, Gurnee\, 60031\, United States
CATEGORIES:Events
ATTACH;FMTTYPE=image/jpeg:https://fatmansgurnee.com/wp-content/uploads/2018/03/2025-volleyball5x7-e1742051814283.jpg
END:VEVENT
BEGIN:VEVENT
DTSTART;TZID=America/Chicago:20250510T193000
DTEND;TZID=America/Chicago:20250510T223000
DTSTAMP:20260422T183051
CREATED:20250505T031122Z
LAST-MODIFIED:20250505T032411Z
UID:26152-1746905400-1746916200@fatmansgurnee.com
SUMMARY:Sk8er Boyz  Live Music at Fatmans
DESCRIPTION:
URL:https://fatmansgurnee.com/event/sk8er-boyz-live-music-at-fatmans
LOCATION:Fatmans\, 36309 N Rte. 41\, Gurnee\, 60031\, United States
CATEGORIES:Events,Live Music
END:VEVENT
BEGIN:VEVENT
DTSTART;TZID=America/Chicago:20250509T193000
DTEND;TZID=America/Chicago:20250509T223000
DTSTAMP:20260422T183051
CREATED:20250505T030659Z
LAST-MODIFIED:20250505T032040Z
UID:26088-1746819000-1746829800@fatmansgurnee.com
SUMMARY:Live Music with The Wads
DESCRIPTION:
URL:https://fatmansgurnee.com/event/live-music-with-the-wads
LOCATION:Fatmans\, 36309 N Rte. 41\, Gurnee\, 60031\, United States
CATEGORIES:Events,Live Music
END:VEVENT
BEGIN:VEVENT
DTSTART;VALUE=DATE:20250507
DTEND;VALUE=DATE:20250508
DTSTAMP:20260422T183051
CREATED:20241030T013120Z
LAST-MODIFIED:20260120T034027Z
UID:25192-1746576000-1746662399@fatmansgurnee.com
SUMMARY:Bingo Night
DESCRIPTION:
URL:https://fatmansgurnee.com/event/bingo-night
LOCATION:Fatmans\, 36309 N Rte. 41\, Gurnee\, 60031\, United States
CATEGORIES:Specials
ATTACH;FMTTYPE=image/jpeg:https://fatmansgurnee.com/wp-content/uploads/2024/10/Fatmans-Bingo-Night.jpeg
END:VEVENT
BEGIN:VEVENT
DTSTART;VALUE=DATE:20250505
DTEND;VALUE=DATE:20250506
DTSTAMP:20260422T183051
CREATED:20250501T014904Z
LAST-MODIFIED:20250501T014935Z
UID:26079-1746403200-1746489599@fatmansgurnee.com
SUMMARY:Cinco De Mayo at Fatmans
DESCRIPTION:
URL:https://fatmansgurnee.com/event/cinco-de-mayo-at-fatmans
LOCATION:Fatmans\, 36309 N Rte. 41\, Gurnee\, 60031\, United States
CATEGORIES:Specials
ATTACH;FMTTYPE=image/jpeg:https://fatmansgurnee.com/wp-content/uploads/2024/10/Fatmans-Cinco-De-Mayo-2025.jpg
END:VEVENT
BEGIN:VEVENT
DTSTART;VALUE=DATE:20250504
DTEND;VALUE=DATE:20250505
DTSTAMP:20260422T183051
CREATED:20250228T212013Z
LAST-MODIFIED:20250301T155459Z
UID:25693-1746316800-1746403199@fatmansgurnee.com
SUMMARY:Fatmans Volleyball League 2025- Register Now!
DESCRIPTION:
URL:https://fatmansgurnee.com/event/fatmans-volleyball-league-2025-register-now-2025-05-04
LOCATION:Fatmans\, 36309 N Rte. 41\, Gurnee\, 60031\, United States
CATEGORIES:Events
ATTACH;FMTTYPE=image/jpeg:https://fatmansgurnee.com/wp-content/uploads/2018/03/2025-volleyball5x7-e1742051814283.jpg
END:VEVENT
BEGIN:VEVENT
DTSTART;TZID=America/Chicago:20250503T190000
DTEND;TZID=America/Chicago:20250503T223000
DTSTAMP:20260422T183051
CREATED:20250505T023411Z
LAST-MODIFIED:20250505T032525Z
UID:26086-1746298800-1746311400@fatmansgurnee.com
SUMMARY:Live Music with Dennis Martin Duo
DESCRIPTION:
URL:https://fatmansgurnee.com/event/live-music-with-dennis-martin-duo
LOCATION:Fatmans\, 36309 N Rte. 41\, Gurnee\, 60031\, United States
CATEGORIES:Events,Live Music
END:VEVENT
BEGIN:VEVENT
DTSTART;TZID=America/Chicago:20250502T190000
DTEND;TZID=America/Chicago:20250502T223000
DTSTAMP:20260422T183051
CREATED:20250505T023125Z
LAST-MODIFIED:20250505T032654Z
UID:26083-1746212400-1746225000@fatmansgurnee.com
SUMMARY:Live Music with Tailspin
DESCRIPTION:
URL:https://fatmansgurnee.com/event/live-music-with-tailspin
LOCATION:Fatmans\, 36309 N Rte. 41\, Gurnee\, 60031\, United States
CATEGORIES:Events,Live Music
END:VEVENT
BEGIN:VEVENT
DTSTART;VALUE=DATE:20250430
DTEND;VALUE=DATE:20250501
DTSTAMP:20260422T183051
CREATED:20250315T151225Z
LAST-MODIFIED:20250315T151225Z
UID:25818-1745971200-1746057599@fatmansgurnee.com
SUMMARY:Wednesday Specials at Fatmans
DESCRIPTION:
URL:https://fatmansgurnee.com/event/wednesday-specials-at-fatmans-2025-04-30
LOCATION:Fatmans\, 36309 N Rte. 41\, Gurnee\, 60031\, United States
CATEGORIES:Specials
ATTACH;FMTTYPE=image/png:https://fatmansgurnee.com/wp-content/uploads/2025/03/Fatmans-Wednesday-Special-e1742051707204.png
END:VEVENT
BEGIN:VEVENT
DTSTART;VALUE=DATE:20250429
DTEND;VALUE=DATE:20250430
DTSTAMP:20260422T183051
CREATED:20250315T151019Z
LAST-MODIFIED:20250315T151019Z
UID:25862-1745884800-1745971199@fatmansgurnee.com
SUMMARY:Tuesday Specials at Fatmans
DESCRIPTION:
URL:https://fatmansgurnee.com/event/tuesday-specials-at-fatmans-2025-04-29
LOCATION:Fatmans\, 36309 N Rte. 41\, Gurnee\, 60031\, United States
CATEGORIES:Specials
ATTACH;FMTTYPE=image/png:https://fatmansgurnee.com/wp-content/uploads/2025/03/Fatmans-Tuesday-Special-e1742051727969.png
END:VEVENT
BEGIN:VEVENT
DTSTART;VALUE=DATE:20250428
DTEND;VALUE=DATE:20250429
DTSTAMP:20260422T183051
CREATED:20250315T153439Z
LAST-MODIFIED:20250315T153439Z
UID:25870-1745798400-1745884799@fatmansgurnee.com
SUMMARY:Monday Specials at Fatmans
DESCRIPTION:
URL:https://fatmansgurnee.com/event/monday-specials-at-fatmans-2025-04-28
LOCATION:Fatmans\, 36309 N Rte. 41\, Gurnee\, 60031\, United States
CATEGORIES:Specials
ATTACH;FMTTYPE=image/jpeg:https://fatmansgurnee.com/wp-content/uploads/2024/10/Fatmans-Monday-Special-scaled-e1730250809610.jpg
END:VEVENT
BEGIN:VEVENT
DTSTART;TZID=America/Chicago:20250427T090000
DTEND;TZID=America/Chicago:20250427T120000
DTSTAMP:20260422T183051
CREATED:20250315T152748Z
LAST-MODIFIED:20250315T152748Z
UID:25848-1745744400-1745755200@fatmansgurnee.com
SUMMARY:Sunday Breakfast at Fatmans
DESCRIPTION:
URL:https://fatmansgurnee.com/event/sunday-breakfast-at-fatmans-2025-04-27
LOCATION:Fatmans\, 36309 N Rte. 41\, Gurnee\, 60031\, United States
CATEGORIES:Specials
ATTACH;FMTTYPE=image/png:https://fatmansgurnee.com/wp-content/uploads/2025/03/Fatmans-Sunday-Breakfast-3-2025-5x7-1-e1742051646350.png
END:VEVENT
BEGIN:VEVENT
DTSTART;VALUE=DATE:20250427
DTEND;VALUE=DATE:20250428
DTSTAMP:20260422T183051
CREATED:20250228T212013Z
LAST-MODIFIED:20250301T155458Z
UID:25692-1745712000-1745798399@fatmansgurnee.com
SUMMARY:Fatmans Volleyball League 2025- Register Now!
DESCRIPTION:
URL:https://fatmansgurnee.com/event/fatmans-volleyball-league-2025-register-now-2025-04-27
LOCATION:Fatmans\, 36309 N Rte. 41\, Gurnee\, 60031\, United States
CATEGORIES:Events
ATTACH;FMTTYPE=image/jpeg:https://fatmansgurnee.com/wp-content/uploads/2018/03/2025-volleyball5x7-e1742051814283.jpg
END:VEVENT
BEGIN:VEVENT
DTSTART;TZID=America/Chicago:20250426T200000
DTEND;TZID=America/Chicago:20250426T233000
DTSTAMP:20260422T183051
CREATED:20241230T051254Z
LAST-MODIFIED:20241230T060523Z
UID:25475-1745697600-1745710200@fatmansgurnee.com
SUMMARY:No Question at Fatmans
DESCRIPTION:
URL:https://fatmansgurnee.com/event/no-question-at-fatmans
LOCATION:Fatmans\, 36309 N Rte. 41\, Gurnee\, 60031\, United States
CATEGORIES:Live Music
END:VEVENT
BEGIN:VEVENT
DTSTART;TZID=America/Chicago:20250426T090000
DTEND;TZID=America/Chicago:20250426T140000
DTSTAMP:20260422T183051
CREATED:20250228T043154Z
LAST-MODIFIED:20250228T043233Z
UID:25550-1745658000-1745676000@fatmansgurnee.com
SUMMARY:Fatmans Car Show
DESCRIPTION:
URL:https://fatmansgurnee.com/event/fatmans-car-show
LOCATION:Fatmans\, 36309 N Rte. 41\, Gurnee\, 60031\, United States
CATEGORIES:Car Show
ATTACH;FMTTYPE=image/png:https://fatmansgurnee.com/wp-content/uploads/2025/02/Fatmans-Car-Show-Schedule-2025-e1740716835152.png
END:VEVENT
BEGIN:VEVENT
DTSTART;TZID=America/Chicago:20250426T090000
DTEND;TZID=America/Chicago:20250426T120000
DTSTAMP:20260422T183051
CREATED:20250315T152513Z
LAST-MODIFIED:20250315T152513Z
UID:25855-1745658000-1745668800@fatmansgurnee.com
SUMMARY:Saturday Breakfast at Fatmans
DESCRIPTION:
URL:https://fatmansgurnee.com/event/saturday-breakfast-at-fatmans-2025-04-26
LOCATION:Fatmans\, 36309 N Rte. 41\, Gurnee\, 60031\, United States
CATEGORIES:Specials
ATTACH;FMTTYPE=image/png:https://fatmansgurnee.com/wp-content/uploads/2025/03/Fatmans-Saturday-Breakfast-3-2025-5x7-2-e1742051682585.png
END:VEVENT
BEGIN:VEVENT
DTSTART;TZID=America/Chicago:20250425T200000
DTEND;TZID=America/Chicago:20250425T233000
DTSTAMP:20260422T183051
CREATED:20241230T051150Z
LAST-MODIFIED:20241230T060419Z
UID:25473-1745611200-1745623800@fatmansgurnee.com
SUMMARY:JT James Acoustic at Fatmans
DESCRIPTION:
URL:https://fatmansgurnee.com/event/jt-james-acoustic-at-fatmans
LOCATION:Fatmans\, 36309 N Rte. 41\, Gurnee\, 60031\, United States
CATEGORIES:Live Music
END:VEVENT
BEGIN:VEVENT
DTSTART;VALUE=DATE:20250425
DTEND;VALUE=DATE:20250426
DTSTAMP:20260422T183051
CREATED:20250315T152240Z
LAST-MODIFIED:20250315T152240Z
UID:25832-1745539200-1745625599@fatmansgurnee.com
SUMMARY:Friday Specials at Fatmans
DESCRIPTION:
URL:https://fatmansgurnee.com/event/friday-specials-at-fatmans-2025-04-25
LOCATION:Fatmans\, 36309 N Rte. 41\, Gurnee\, 60031\, United States
CATEGORIES:Specials
ATTACH;FMTTYPE=image/png:https://fatmansgurnee.com/wp-content/uploads/2025/03/Fatmans-Friday-Special-3-2025-e1742051755695.png
END:VEVENT
BEGIN:VEVENT
DTSTART;VALUE=DATE:20250424
DTEND;VALUE=DATE:20250425
DTSTAMP:20260422T183051
CREATED:20250315T151822Z
LAST-MODIFIED:20250315T151822Z
UID:25825-1745452800-1745539199@fatmansgurnee.com
SUMMARY:Thursday Specials at Fatmans
DESCRIPTION:
URL:https://fatmansgurnee.com/event/thursday-specials-at-fatmans-2025-04-24
LOCATION:Fatmans\, 36309 N Rte. 41\, Gurnee\, 60031\, United States
ATTACH;FMTTYPE=image/png:https://fatmansgurnee.com/wp-content/uploads/2025/03/Fatmans-Thursday-Specials-3-2025-e1742051622717.png
END:VEVENT
BEGIN:VEVENT
DTSTART;VALUE=DATE:20250423
DTEND;VALUE=DATE:20250424
DTSTAMP:20260422T183051
CREATED:20250315T151225Z
LAST-MODIFIED:20250315T151225Z
UID:25817-1745366400-1745452799@fatmansgurnee.com
SUMMARY:Wednesday Specials at Fatmans
DESCRIPTION:
URL:https://fatmansgurnee.com/event/wednesday-specials-at-fatmans-2025-04-23
LOCATION:Fatmans\, 36309 N Rte. 41\, Gurnee\, 60031\, United States
CATEGORIES:Specials
ATTACH;FMTTYPE=image/png:https://fatmansgurnee.com/wp-content/uploads/2025/03/Fatmans-Wednesday-Special-e1742051707204.png
END:VEVENT
BEGIN:VEVENT
DTSTART;VALUE=DATE:20250422
DTEND;VALUE=DATE:20250423
DTSTAMP:20260422T183051
CREATED:20250315T151019Z
LAST-MODIFIED:20250315T151019Z
UID:25861-1745280000-1745366399@fatmansgurnee.com
SUMMARY:Tuesday Specials at Fatmans
DESCRIPTION:
URL:https://fatmansgurnee.com/event/tuesday-specials-at-fatmans-2025-04-22
LOCATION:Fatmans\, 36309 N Rte. 41\, Gurnee\, 60031\, United States
CATEGORIES:Specials
ATTACH;FMTTYPE=image/png:https://fatmansgurnee.com/wp-content/uploads/2025/03/Fatmans-Tuesday-Special-e1742051727969.png
END:VEVENT
BEGIN:VEVENT
DTSTART;VALUE=DATE:20250421
DTEND;VALUE=DATE:20250422
DTSTAMP:20260422T183051
CREATED:20250315T153439Z
LAST-MODIFIED:20250315T153439Z
UID:25869-1745193600-1745279999@fatmansgurnee.com
SUMMARY:Monday Specials at Fatmans
DESCRIPTION:
URL:https://fatmansgurnee.com/event/monday-specials-at-fatmans-2025-04-21
LOCATION:Fatmans\, 36309 N Rte. 41\, Gurnee\, 60031\, United States
CATEGORIES:Specials
ATTACH;FMTTYPE=image/jpeg:https://fatmansgurnee.com/wp-content/uploads/2024/10/Fatmans-Monday-Special-scaled-e1730250809610.jpg
END:VEVENT
BEGIN:VEVENT
DTSTART;TZID=America/Chicago:20250420T090000
DTEND;TZID=America/Chicago:20250420T120000
DTSTAMP:20260422T183051
CREATED:20250315T152748Z
LAST-MODIFIED:20250315T152748Z
UID:25847-1745139600-1745150400@fatmansgurnee.com
SUMMARY:Sunday Breakfast at Fatmans
DESCRIPTION:
URL:https://fatmansgurnee.com/event/sunday-breakfast-at-fatmans-2025-04-20
LOCATION:Fatmans\, 36309 N Rte. 41\, Gurnee\, 60031\, United States
CATEGORIES:Specials
ATTACH;FMTTYPE=image/png:https://fatmansgurnee.com/wp-content/uploads/2025/03/Fatmans-Sunday-Breakfast-3-2025-5x7-1-e1742051646350.png
END:VEVENT
END:VCALENDAR