BEGIN:VCALENDAR
VERSION:2.0
PRODID:-//Fatmans - ECPv6.15.20//NONSGML v1.0//EN
CALSCALE:GREGORIAN
METHOD:PUBLISH
X-ORIGINAL-URL:https://fatmansgurnee.com
X-WR-CALDESC:Events for Fatmans
REFRESH-INTERVAL;VALUE=DURATION:PT1H
X-Robots-Tag:noindex
X-PUBLISHED-TTL:PT1H
BEGIN:VTIMEZONE
TZID:America/Chicago
BEGIN:DAYLIGHT
TZOFFSETFROM:-0600
TZOFFSETTO:-0500
TZNAME:CDT
DTSTART:20240310T080000
END:DAYLIGHT
BEGIN:STANDARD
TZOFFSETFROM:-0500
TZOFFSETTO:-0600
TZNAME:CST
DTSTART:20241103T070000
END:STANDARD
BEGIN:DAYLIGHT
TZOFFSETFROM:-0600
TZOFFSETTO:-0500
TZNAME:CDT
DTSTART:20250309T080000
END:DAYLIGHT
BEGIN:STANDARD
TZOFFSETFROM:-0500
TZOFFSETTO:-0600
TZNAME:CST
DTSTART:20251102T070000
END:STANDARD
BEGIN:DAYLIGHT
TZOFFSETFROM:-0600
TZOFFSETTO:-0500
TZNAME:CDT
DTSTART:20260308T080000
END:DAYLIGHT
BEGIN:STANDARD
TZOFFSETFROM:-0500
TZOFFSETTO:-0600
TZNAME:CST
DTSTART:20261101T070000
END:STANDARD
END:VTIMEZONE
BEGIN:VEVENT
DTSTART;TZID=America/Chicago:20250628T190000
DTEND;TZID=America/Chicago:20250628T223000
DTSTAMP:20260422T183050
CREATED:20250505T042430Z
LAST-MODIFIED:20250505T042430Z
UID:26240-1751137200-1751149800@fatmansgurnee.com
SUMMARY:No Question Live Music At Fatmans
DESCRIPTION:
URL:https://fatmansgurnee.com/event/no-question-live-music-at-fatmans
LOCATION:Fatmans\, 36309 N Rte. 41\, Gurnee\, 60031\, United States
CATEGORIES:Events,Live Music
END:VEVENT
BEGIN:VEVENT
DTSTART;TZID=America/Chicago:20250627T190000
DTEND;TZID=America/Chicago:20250627T223000
DTSTAMP:20260422T183050
CREATED:20250505T041227Z
LAST-MODIFIED:20250505T041227Z
UID:26222-1751050800-1751063400@fatmansgurnee.com
SUMMARY:Ivy Ford Live Music at Fatmans
DESCRIPTION:
URL:https://fatmansgurnee.com/event/ivy-ford-live-music-at-fatmans
LOCATION:Fatmans\, 36309 N Rte. 41\, Gurnee\, 60031\, United States
CATEGORIES:Events,Live Music
END:VEVENT
BEGIN:VEVENT
DTSTART;VALUE=DATE:20250625
DTEND;VALUE=DATE:20250626
DTSTAMP:20260422T183050
CREATED:20241030T013120Z
LAST-MODIFIED:20250501T014240Z
UID:26018-1750809600-1750895999@fatmansgurnee.com
SUMMARY:Bingo Night
DESCRIPTION:
URL:https://fatmansgurnee.com/event/bingo-night-2025-06-25
LOCATION:Fatmans\, 36309 N Rte. 41\, Gurnee\, 60031\, United States
CATEGORIES:Specials
ATTACH;FMTTYPE=image/jpeg:https://fatmansgurnee.com/wp-content/uploads/2024/10/Fatmans-Bingo-Night.jpeg
END:VEVENT
BEGIN:VEVENT
DTSTART;TZID=America/Chicago:20250622T160000
DTEND;TZID=America/Chicago:20250622T200000
DTSTAMP:20260422T183050
CREATED:20250505T034313Z
LAST-MODIFIED:20250505T034639Z
UID:26180-1750608000-1750622400@fatmansgurnee.com
SUMMARY:Sunday Funday with DJ at Fatmans
DESCRIPTION:
URL:https://fatmansgurnee.com/event/sunday-funday-with-dj-at-fatmans-4
LOCATION:Fatmans\, 36309 N Rte. 41\, Gurnee\, 60031\, United States
CATEGORIES:Events,Live Music
END:VEVENT
BEGIN:VEVENT
DTSTART;TZID=America/Chicago:20250621T190000
DTEND;TZID=America/Chicago:20250621T223000
DTSTAMP:20260422T183050
CREATED:20250505T034214Z
LAST-MODIFIED:20250505T034526Z
UID:26178-1750532400-1750545000@fatmansgurnee.com
SUMMARY:DJ Night at Fatmans
DESCRIPTION:
URL:https://fatmansgurnee.com/event/sunday-funday-with-dj-at-fatmans-3
LOCATION:Fatmans\, 36309 N Rte. 41\, Gurnee\, 60031\, United States
CATEGORIES:Events,Live Music
END:VEVENT
BEGIN:VEVENT
DTSTART;TZID=America/Chicago:20250621T090000
DTEND;TZID=America/Chicago:20250621T140000
DTSTAMP:20260422T183050
CREATED:20250228T043154Z
LAST-MODIFIED:20250228T043233Z
UID:25553-1750496400-1750514400@fatmansgurnee.com
SUMMARY:Fatmans Car Show
DESCRIPTION:
URL:https://fatmansgurnee.com/event/fatmans-car-show-2025-06-21
LOCATION:Fatmans\, 36309 N Rte. 41\, Gurnee\, 60031\, United States
CATEGORIES:Car Show
ATTACH;FMTTYPE=image/png:https://fatmansgurnee.com/wp-content/uploads/2025/02/Fatmans-Car-Show-Schedule-2025-e1740716835152.png
END:VEVENT
BEGIN:VEVENT
DTSTART;TZID=America/Chicago:20250620T190000
DTEND;TZID=America/Chicago:20250620T223000
DTSTAMP:20260422T183050
CREATED:20250505T042711Z
LAST-MODIFIED:20250505T042711Z
UID:26244-1750446000-1750458600@fatmansgurnee.com
SUMMARY:Sunblind Live Music at Fatmans
DESCRIPTION:
URL:https://fatmansgurnee.com/event/sunblind-live-music-at-fatmans
LOCATION:Fatmans\, 36309 N Rte. 41\, Gurnee\, 60031\, United States
CATEGORIES:Events,Live Music
END:VEVENT
BEGIN:VEVENT
DTSTART;VALUE=DATE:20250618
DTEND;VALUE=DATE:20250619
DTSTAMP:20260422T183050
CREATED:20241030T013120Z
LAST-MODIFIED:20250501T014239Z
UID:26017-1750204800-1750291199@fatmansgurnee.com
SUMMARY:Bingo Night
DESCRIPTION:
URL:https://fatmansgurnee.com/event/bingo-night-2025-06-18
LOCATION:Fatmans\, 36309 N Rte. 41\, Gurnee\, 60031\, United States
CATEGORIES:Specials
ATTACH;FMTTYPE=image/jpeg:https://fatmansgurnee.com/wp-content/uploads/2024/10/Fatmans-Bingo-Night.jpeg
END:VEVENT
BEGIN:VEVENT
DTSTART;TZID=America/Chicago:20250615T130000
DTEND;TZID=America/Chicago:20250615T163000
DTSTAMP:20260422T183050
CREATED:20250505T042841Z
LAST-MODIFIED:20250505T042841Z
UID:26246-1749992400-1750005000@fatmansgurnee.com
SUMMARY:Lonely Ninjas Live Music at Fatmans
DESCRIPTION:
URL:https://fatmansgurnee.com/event/lonely-ninjas-live-music-at-fatmans
LOCATION:Fatmans\, 36309 N Rte. 41\, Gurnee\, 60031\, United States
CATEGORIES:Events,Live Music
END:VEVENT
BEGIN:VEVENT
DTSTART;TZID=America/Chicago:20250614T190000
DTEND;TZID=America/Chicago:20250614T223000
DTSTAMP:20260422T183050
CREATED:20250505T040746Z
LAST-MODIFIED:20250505T040746Z
UID:26216-1749927600-1749940200@fatmansgurnee.com
SUMMARY:The Wads Live Music at Fatmans
DESCRIPTION:
URL:https://fatmansgurnee.com/event/the-wads-live-music-at-fatmans
LOCATION:Fatmans\, 36309 N Rte. 41\, Gurnee\, 60031\, United States
CATEGORIES:Events,Live Music
END:VEVENT
BEGIN:VEVENT
DTSTART;TZID=America/Chicago:20250613T190000
DTEND;TZID=America/Chicago:20250613T223000
DTSTAMP:20260422T183050
CREATED:20250505T040330Z
LAST-MODIFIED:20250505T040330Z
UID:26210-1749841200-1749853800@fatmansgurnee.com
SUMMARY:Simply Sound Live Music at Fatmans
DESCRIPTION:
URL:https://fatmansgurnee.com/event/simply-sound-live-music-at-fatmans
LOCATION:Fatmans\, 36309 N Rte. 41\, Gurnee\, 60031\, United States
CATEGORIES:Events,Live Music
END:VEVENT
BEGIN:VEVENT
DTSTART;VALUE=DATE:20250611
DTEND;VALUE=DATE:20250612
DTSTAMP:20260422T183050
CREATED:20241030T013120Z
LAST-MODIFIED:20250501T014238Z
UID:26016-1749600000-1749686399@fatmansgurnee.com
SUMMARY:Bingo Night
DESCRIPTION:
URL:https://fatmansgurnee.com/event/bingo-night-2025-06-11
LOCATION:Fatmans\, 36309 N Rte. 41\, Gurnee\, 60031\, United States
CATEGORIES:Specials
ATTACH;FMTTYPE=image/jpeg:https://fatmansgurnee.com/wp-content/uploads/2024/10/Fatmans-Bingo-Night.jpeg
END:VEVENT
BEGIN:VEVENT
DTSTART;TZID=America/Chicago:20250608T160000
DTEND;TZID=America/Chicago:20250608T200000
DTSTAMP:20260422T183050
CREATED:20250505T034054Z
LAST-MODIFIED:20250505T034054Z
UID:26176-1749398400-1749412800@fatmansgurnee.com
SUMMARY:Sunday Funday with DJ at Fatmans
DESCRIPTION:
URL:https://fatmansgurnee.com/event/sunday-funday-with-dj-at-fatmans-2
LOCATION:Fatmans\, 36309 N Rte. 41\, Gurnee\, 60031\, United States
CATEGORIES:Events,Live Music
END:VEVENT
BEGIN:VEVENT
DTSTART;TZID=America/Chicago:20250607T190000
DTEND;TZID=America/Chicago:20250607T223000
DTSTAMP:20260422T183050
CREATED:20250505T040027Z
LAST-MODIFIED:20250505T040027Z
UID:26206-1749322800-1749335400@fatmansgurnee.com
SUMMARY:Stu The Piano Guy Live Music at Fatmans
DESCRIPTION:
URL:https://fatmansgurnee.com/event/stu-the-piano-guy-live-music-at-fatmans
LOCATION:Fatmans\, 36309 N Rte. 41\, Gurnee\, 60031\, United States
CATEGORIES:Events,Live Music
END:VEVENT
BEGIN:VEVENT
DTSTART;TZID=America/Chicago:20250606T190000
DTEND;TZID=America/Chicago:20250606T223000
DTSTAMP:20260422T183051
CREATED:20250505T035858Z
LAST-MODIFIED:20250505T035858Z
UID:26204-1749236400-1749249000@fatmansgurnee.com
SUMMARY:Severe Live Music at Fatmans
DESCRIPTION:
URL:https://fatmansgurnee.com/event/severe-live-music-at-fatmans
LOCATION:Fatmans\, 36309 N Rte. 41\, Gurnee\, 60031\, United States
CATEGORIES:Events,Live Music
END:VEVENT
BEGIN:VEVENT
DTSTART;VALUE=DATE:20250604
DTEND;VALUE=DATE:20250605
DTSTAMP:20260422T183051
CREATED:20241030T013120Z
LAST-MODIFIED:20250501T014237Z
UID:26015-1748995200-1749081599@fatmansgurnee.com
SUMMARY:Bingo Night
DESCRIPTION:
URL:https://fatmansgurnee.com/event/bingo-night-2025-06-04
LOCATION:Fatmans\, 36309 N Rte. 41\, Gurnee\, 60031\, United States
CATEGORIES:Specials
ATTACH;FMTTYPE=image/jpeg:https://fatmansgurnee.com/wp-content/uploads/2024/10/Fatmans-Bingo-Night.jpeg
END:VEVENT
BEGIN:VEVENT
DTSTART;TZID=America/Chicago:20250601T160000
DTEND;TZID=America/Chicago:20250601T200000
DTSTAMP:20260422T183051
CREATED:20250505T033942Z
LAST-MODIFIED:20250505T033942Z
UID:26174-1748793600-1748808000@fatmansgurnee.com
SUMMARY:Sunday Funday with DJ at Fatmans
DESCRIPTION:
URL:https://fatmansgurnee.com/event/sunday-funday-with-dj-at-fatmans
LOCATION:Fatmans\, 36309 N Rte. 41\, Gurnee\, 60031\, United States
CATEGORIES:Events,Live Music
END:VEVENT
BEGIN:VEVENT
DTSTART;TZID=America/Chicago:20250531T080000
DTEND;TZID=America/Chicago:20250531T170000
DTSTAMP:20260422T183051
CREATED:20250408T192425Z
LAST-MODIFIED:20250408T192453Z
UID:25921-1748678400-1748710800@fatmansgurnee.com
SUMMARY:Jackpot Volleyball Co-Ed 6's Sand Volleyball Tournament
DESCRIPTION:Jackpot Volleyball Co-Ed 6’s Sand Volleyball Tournament at Fatmans.\n****Register your team with Jackpot Volleyball by submitting their form: https://docs.google.com/forms/d/e/1FAIpQLSftZuXc8Y0Z7EmEBZyQIwirNWLaxAhO827EcjMUjqmUUew3-Q/viewform?usp=sharing \nPlease contact Juan Rodriguez for any questions (https://www.facebook.com/profile.php?id=61555843212206)
URL:https://fatmansgurnee.com/event/jackpot-volleyball-co-ed-6s-sand-volleyball-tournament
LOCATION:Fatmans\, 36309 N Rte. 41\, Gurnee\, 60031\, United States
CATEGORIES:Events
ATTACH;FMTTYPE=image/jpeg:https://fatmansgurnee.com/wp-content/uploads/2025/04/Fatmans-Volleyball-tournament-5-2025-e1744140195418.jpeg
END:VEVENT
BEGIN:VEVENT
DTSTART;TZID=America/Chicago:20250530T190000
DTEND;TZID=America/Chicago:20250530T223000
DTSTAMP:20260422T183051
CREATED:20250505T033758Z
LAST-MODIFIED:20250505T033758Z
UID:26172-1748631600-1748644200@fatmansgurnee.com
SUMMARY:Rafael Mendez & The Fabulous House Rockers Live Music at Fatmans
DESCRIPTION:
URL:https://fatmansgurnee.com/event/rafael-mendez-the-fabulous-house-rockers-live-music-at-fatmans
LOCATION:Fatmans\, 36309 N Rte. 41\, Gurnee\, 60031\, United States
CATEGORIES:Events,Live Music
END:VEVENT
BEGIN:VEVENT
DTSTART;VALUE=DATE:20250528
DTEND;VALUE=DATE:20250529
DTSTAMP:20260422T183051
CREATED:20241030T013120Z
LAST-MODIFIED:20250501T014236Z
UID:26014-1748390400-1748476799@fatmansgurnee.com
SUMMARY:Bingo Night
DESCRIPTION:
URL:https://fatmansgurnee.com/event/bingo-night-2025-05-28
LOCATION:Fatmans\, 36309 N Rte. 41\, Gurnee\, 60031\, United States
CATEGORIES:Specials
ATTACH;FMTTYPE=image/jpeg:https://fatmansgurnee.com/wp-content/uploads/2024/10/Fatmans-Bingo-Night.jpeg
END:VEVENT
BEGIN:VEVENT
DTSTART;TZID=America/Chicago:20250525T130000
DTEND;TZID=America/Chicago:20250525T163000
DTSTAMP:20260422T183051
CREATED:20250505T033441Z
LAST-MODIFIED:20250505T033441Z
UID:26170-1748178000-1748190600@fatmansgurnee.com
SUMMARY:Blues Family Robinson Live Music at Fatmans
DESCRIPTION:
URL:https://fatmansgurnee.com/event/blues-family-robinson-live-music-at-fatmans
LOCATION:Fatmans\, 36309 N Rte. 41\, Gurnee\, 60031\, United States
CATEGORIES:Events,Live Music
END:VEVENT
BEGIN:VEVENT
DTSTART;TZID=America/Chicago:20250524T190000
DTEND;TZID=America/Chicago:20250524T223000
DTSTAMP:20260422T183051
CREATED:20250505T033316Z
LAST-MODIFIED:20250505T033316Z
UID:26168-1748113200-1748125800@fatmansgurnee.com
SUMMARY:Dave & Taro Live Music at Fatmans
DESCRIPTION:
URL:https://fatmansgurnee.com/event/dave-taro-live-music-at-fatmans
LOCATION:Fatmans\, 36309 N Rte. 41\, Gurnee\, 60031\, United States
CATEGORIES:Events,Live Music
END:VEVENT
BEGIN:VEVENT
DTSTART;TZID=America/Chicago:20250523T190000
DTEND;TZID=America/Chicago:20250523T223000
DTSTAMP:20260422T183051
CREATED:20250505T033151Z
LAST-MODIFIED:20250505T033151Z
UID:26166-1748026800-1748039400@fatmansgurnee.com
SUMMARY:Peter & The Versatiles Live Music at Fatmans
DESCRIPTION:
URL:https://fatmansgurnee.com/event/peter-the-versatiles-live-music-at-fatmans
LOCATION:Fatmans\, 36309 N Rte. 41\, Gurnee\, 60031\, United States
CATEGORIES:Events,Live Music
END:VEVENT
BEGIN:VEVENT
DTSTART;VALUE=DATE:20250521
DTEND;VALUE=DATE:20250522
DTSTAMP:20260422T183051
CREATED:20241030T013120Z
LAST-MODIFIED:20250501T014235Z
UID:26013-1747785600-1747871999@fatmansgurnee.com
SUMMARY:Bingo Night
DESCRIPTION:
URL:https://fatmansgurnee.com/event/bingo-night-2025-05-21
LOCATION:Fatmans\, 36309 N Rte. 41\, Gurnee\, 60031\, United States
CATEGORIES:Specials
ATTACH;FMTTYPE=image/jpeg:https://fatmansgurnee.com/wp-content/uploads/2024/10/Fatmans-Bingo-Night.jpeg
END:VEVENT
BEGIN:VEVENT
DTSTART;TZID=America/Chicago:20250517T190000
DTEND;TZID=America/Chicago:20250517T223000
DTSTAMP:20260422T183051
CREATED:20250505T033023Z
LAST-MODIFIED:20250505T033023Z
UID:26164-1747508400-1747521000@fatmansgurnee.com
SUMMARY:Roger That Live Music at Fatmans
DESCRIPTION:
URL:https://fatmansgurnee.com/event/roger-that-live-music-at-fatmans
LOCATION:Fatmans\, 36309 N Rte. 41\, Gurnee\, 60031\, United States
CATEGORIES:Events,Live Music
END:VEVENT
BEGIN:VEVENT
DTSTART;TZID=America/Chicago:20250516T190000
DTEND;TZID=America/Chicago:20250516T223000
DTSTAMP:20260422T183051
CREATED:20250505T032901Z
LAST-MODIFIED:20250505T032901Z
UID:26162-1747422000-1747434600@fatmansgurnee.com
SUMMARY:Indigo Canyon Live Music at Fatmans
DESCRIPTION:
URL:https://fatmansgurnee.com/event/indigo-canyon-live-music-at-fatmans
LOCATION:Fatmans\, 36309 N Rte. 41\, Gurnee\, 60031\, United States
CATEGORIES:Events,Live Music
END:VEVENT
BEGIN:VEVENT
DTSTART;VALUE=DATE:20250514
DTEND;VALUE=DATE:20250515
DTSTAMP:20260422T183051
CREATED:20241030T013120Z
LAST-MODIFIED:20250501T014234Z
UID:26012-1747180800-1747267199@fatmansgurnee.com
SUMMARY:Bingo Night
DESCRIPTION:
URL:https://fatmansgurnee.com/event/bingo-night-2025-05-14
LOCATION:Fatmans\, 36309 N Rte. 41\, Gurnee\, 60031\, United States
CATEGORIES:Specials
ATTACH;FMTTYPE=image/jpeg:https://fatmansgurnee.com/wp-content/uploads/2024/10/Fatmans-Bingo-Night.jpeg
END:VEVENT
BEGIN:VEVENT
DTSTART;VALUE=DATE:20250511
DTEND;VALUE=DATE:20250512
DTSTAMP:20260422T183051
CREATED:20250228T212013Z
LAST-MODIFIED:20250301T155459Z
UID:25694-1746921600-1747007999@fatmansgurnee.com
SUMMARY:Fatmans Volleyball League 2025- Register Now!
DESCRIPTION:
URL:https://fatmansgurnee.com/event/fatmans-volleyball-league-2025-register-now-2025-05-11
LOCATION:Fatmans\, 36309 N Rte. 41\, Gurnee\, 60031\, United States
CATEGORIES:Events
ATTACH;FMTTYPE=image/jpeg:https://fatmansgurnee.com/wp-content/uploads/2018/03/2025-volleyball5x7-e1742051814283.jpg
END:VEVENT
BEGIN:VEVENT
DTSTART;TZID=America/Chicago:20250510T193000
DTEND;TZID=America/Chicago:20250510T223000
DTSTAMP:20260422T183051
CREATED:20250505T031122Z
LAST-MODIFIED:20250505T032411Z
UID:26152-1746905400-1746916200@fatmansgurnee.com
SUMMARY:Sk8er Boyz  Live Music at Fatmans
DESCRIPTION:
URL:https://fatmansgurnee.com/event/sk8er-boyz-live-music-at-fatmans
LOCATION:Fatmans\, 36309 N Rte. 41\, Gurnee\, 60031\, United States
CATEGORIES:Events,Live Music
END:VEVENT
BEGIN:VEVENT
DTSTART;TZID=America/Chicago:20250509T193000
DTEND;TZID=America/Chicago:20250509T223000
DTSTAMP:20260422T183051
CREATED:20250505T030659Z
LAST-MODIFIED:20250505T032040Z
UID:26088-1746819000-1746829800@fatmansgurnee.com
SUMMARY:Live Music with The Wads
DESCRIPTION:
URL:https://fatmansgurnee.com/event/live-music-with-the-wads
LOCATION:Fatmans\, 36309 N Rte. 41\, Gurnee\, 60031\, United States
CATEGORIES:Events,Live Music
END:VEVENT
END:VCALENDAR