BEGIN:VCALENDAR
VERSION:2.0
PRODID:-//Fatmans - ECPv6.15.20//NONSGML v1.0//EN
CALSCALE:GREGORIAN
METHOD:PUBLISH
X-ORIGINAL-URL:https://fatmansgurnee.com
X-WR-CALDESC:Events for Fatmans
REFRESH-INTERVAL;VALUE=DURATION:PT1H
X-Robots-Tag:noindex
X-PUBLISHED-TTL:PT1H
BEGIN:VTIMEZONE
TZID:America/Chicago
BEGIN:DAYLIGHT
TZOFFSETFROM:-0600
TZOFFSETTO:-0500
TZNAME:CDT
DTSTART:20240310T080000
END:DAYLIGHT
BEGIN:STANDARD
TZOFFSETFROM:-0500
TZOFFSETTO:-0600
TZNAME:CST
DTSTART:20241103T070000
END:STANDARD
BEGIN:DAYLIGHT
TZOFFSETFROM:-0600
TZOFFSETTO:-0500
TZNAME:CDT
DTSTART:20250309T080000
END:DAYLIGHT
BEGIN:STANDARD
TZOFFSETFROM:-0500
TZOFFSETTO:-0600
TZNAME:CST
DTSTART:20251102T070000
END:STANDARD
BEGIN:DAYLIGHT
TZOFFSETFROM:-0600
TZOFFSETTO:-0500
TZNAME:CDT
DTSTART:20260308T080000
END:DAYLIGHT
BEGIN:STANDARD
TZOFFSETFROM:-0500
TZOFFSETTO:-0600
TZNAME:CST
DTSTART:20261101T070000
END:STANDARD
END:VTIMEZONE
BEGIN:VEVENT
DTSTART;TZID=America/Chicago:20250905T190000
DTEND;TZID=America/Chicago:20250905T223000
DTSTAMP:20260422T145350
CREATED:20250505T045130Z
LAST-MODIFIED:20250505T045130Z
UID:26275-1757098800-1757111400@fatmansgurnee.com
SUMMARY:Tailspin Live Music at Fatmans
DESCRIPTION:
URL:https://fatmansgurnee.com/event/tailspin-live-music-at-fatmans
LOCATION:Fatmans\, 36309 N Rte. 41\, Gurnee\, 60031\, United States
CATEGORIES:Events,Live Music
END:VEVENT
BEGIN:VEVENT
DTSTART;VALUE=DATE:20250903
DTEND;VALUE=DATE:20250904
DTSTAMP:20260422T145350
CREATED:20241030T013120Z
LAST-MODIFIED:20250501T014257Z
UID:26029-1756857600-1756943999@fatmansgurnee.com
SUMMARY:Bingo Night
DESCRIPTION:
URL:https://fatmansgurnee.com/event/bingo-night-2025-09-03
LOCATION:Fatmans\, 36309 N Rte. 41\, Gurnee\, 60031\, United States
CATEGORIES:Specials
ATTACH;FMTTYPE=image/jpeg:https://fatmansgurnee.com/wp-content/uploads/2024/10/Fatmans-Bingo-Night.jpeg
END:VEVENT
BEGIN:VEVENT
DTSTART;TZID=America/Chicago:20250831T160000
DTEND;TZID=America/Chicago:20250831T200000
DTSTAMP:20260422T145350
CREATED:20250505T035457Z
LAST-MODIFIED:20250505T035457Z
UID:26198-1756656000-1756670400@fatmansgurnee.com
SUMMARY:Sunday Funday with DJ at Fatmans
DESCRIPTION:
URL:https://fatmansgurnee.com/event/sunday-funday-with-dj-at-fatmans-8
LOCATION:Fatmans\, 36309 N Rte. 41\, Gurnee\, 60031\, United States
CATEGORIES:Events,Queen of Hearts
END:VEVENT
BEGIN:VEVENT
DTSTART;TZID=America/Chicago:20250830T190000
DTEND;TZID=America/Chicago:20250830T223000
DTSTAMP:20260422T145350
CREATED:20250505T040156Z
LAST-MODIFIED:20250505T040156Z
UID:26208-1756580400-1756593000@fatmansgurnee.com
SUMMARY:Stu The Piano Guy Live Music at Fatmans
DESCRIPTION:
URL:https://fatmansgurnee.com/event/stu-the-piano-guy-live-music-at-fatmans-2
LOCATION:Fatmans\, 36309 N Rte. 41\, Gurnee\, 60031\, United States
CATEGORIES:Events,Live Music
END:VEVENT
BEGIN:VEVENT
DTSTART;TZID=America/Chicago:20250829T190000
DTEND;TZID=America/Chicago:20250829T223000
DTSTAMP:20260422T145350
CREATED:20250505T043446Z
LAST-MODIFIED:20250505T043446Z
UID:26252-1756494000-1756506600@fatmansgurnee.com
SUMMARY:Dennis Martin Duo Live Music at Fatmans
DESCRIPTION:
URL:https://fatmansgurnee.com/event/dennis-martin-duo-live-music-at-fatmans
LOCATION:Fatmans\, 36309 N Rte. 41\, Gurnee\, 60031\, United States
CATEGORIES:Events,Live Music
END:VEVENT
BEGIN:VEVENT
DTSTART;VALUE=DATE:20250827
DTEND;VALUE=DATE:20250828
DTSTAMP:20260422T145350
CREATED:20241030T013120Z
LAST-MODIFIED:20250501T014256Z
UID:26028-1756252800-1756339199@fatmansgurnee.com
SUMMARY:Bingo Night
DESCRIPTION:
URL:https://fatmansgurnee.com/event/bingo-night-2025-08-27
LOCATION:Fatmans\, 36309 N Rte. 41\, Gurnee\, 60031\, United States
CATEGORIES:Specials
ATTACH;FMTTYPE=image/jpeg:https://fatmansgurnee.com/wp-content/uploads/2024/10/Fatmans-Bingo-Night.jpeg
END:VEVENT
BEGIN:VEVENT
DTSTART;TZID=America/Chicago:20250824T130000
DTEND;TZID=America/Chicago:20250824T163000
DTSTAMP:20260422T145350
CREATED:20250505T042145Z
LAST-MODIFIED:20250505T042145Z
UID:26236-1756040400-1756053000@fatmansgurnee.com
SUMMARY:Yankee Cowboy Band Live Music At Fatmans
DESCRIPTION:
URL:https://fatmansgurnee.com/event/yankee-cowboy-band-live-music-at-fatmans
LOCATION:Fatmans\, 36309 N Rte. 41\, Gurnee\, 60031\, United States
CATEGORIES:Events,Live Music
END:VEVENT
BEGIN:VEVENT
DTSTART;TZID=America/Chicago:20250823T193000
DTEND;TZID=America/Chicago:20250823T230000
DTSTAMP:20260422T145350
CREATED:20250505T043314Z
LAST-MODIFIED:20250505T043314Z
UID:26250-1755977400-1755990000@fatmansgurnee.com
SUMMARY:DeJa Vu Live Music at Fatmans
DESCRIPTION:
URL:https://fatmansgurnee.com/event/deja-vu-live-music-at-fatmans-2
LOCATION:Fatmans\, 36309 N Rte. 41\, Gurnee\, 60031\, United States
END:VEVENT
BEGIN:VEVENT
DTSTART;TZID=America/Chicago:20250822T190000
DTEND;TZID=America/Chicago:20250822T233000
DTSTAMP:20260422T145350
CREATED:20250505T035337Z
LAST-MODIFIED:20250505T035337Z
UID:26196-1755889200-1755905400@fatmansgurnee.com
SUMMARY:DJ Night at Fatmans
DESCRIPTION:
URL:https://fatmansgurnee.com/event/dj-night-at-fatmans-2
LOCATION:Fatmans\, 36309 N Rte. 41\, Gurnee\, 60031\, United States
CATEGORIES:Events,Live Music
END:VEVENT
BEGIN:VEVENT
DTSTART;VALUE=DATE:20250820
DTEND;VALUE=DATE:20250821
DTSTAMP:20260422T145350
CREATED:20241030T013120Z
LAST-MODIFIED:20250501T014255Z
UID:26027-1755648000-1755734399@fatmansgurnee.com
SUMMARY:Bingo Night
DESCRIPTION:
URL:https://fatmansgurnee.com/event/bingo-night-2025-08-20
LOCATION:Fatmans\, 36309 N Rte. 41\, Gurnee\, 60031\, United States
CATEGORIES:Specials
ATTACH;FMTTYPE=image/jpeg:https://fatmansgurnee.com/wp-content/uploads/2024/10/Fatmans-Bingo-Night.jpeg
END:VEVENT
BEGIN:VEVENT
DTSTART;TZID=America/Chicago:20250817T160000
DTEND;TZID=America/Chicago:20250817T200000
DTSTAMP:20260422T145350
CREATED:20250505T035215Z
LAST-MODIFIED:20250505T035215Z
UID:26194-1755446400-1755460800@fatmansgurnee.com
SUMMARY:Sunday Funday with DJ at Fatmans
DESCRIPTION:
URL:https://fatmansgurnee.com/event/sunday-funday-with-dj-at-fatmans-7
LOCATION:Fatmans\, 36309 N Rte. 41\, Gurnee\, 60031\, United States
CATEGORIES:Events,Live Music
END:VEVENT
BEGIN:VEVENT
DTSTART;TZID=America/Chicago:20250816T190000
DTEND;TZID=America/Chicago:20250816T223000
DTSTAMP:20260422T145350
CREATED:20250505T042028Z
LAST-MODIFIED:20250505T042028Z
UID:26234-1755370800-1755383400@fatmansgurnee.com
SUMMARY:Six Speed Tranny Live Music at Fatmans
DESCRIPTION:
URL:https://fatmansgurnee.com/event/six-speed-tranny-live-music-at-fatmans
LOCATION:Fatmans\, 36309 N Rte. 41\, Gurnee\, 60031\, United States
CATEGORIES:Events,Live Music
END:VEVENT
BEGIN:VEVENT
DTSTART;TZID=America/Chicago:20250816T090000
DTEND;TZID=America/Chicago:20250816T140000
DTSTAMP:20260422T145350
CREATED:20250228T043154Z
LAST-MODIFIED:20250228T043234Z
UID:25555-1755334800-1755352800@fatmansgurnee.com
SUMMARY:Fatmans Car Show
DESCRIPTION:
URL:https://fatmansgurnee.com/event/fatmans-car-show-2025-08-16
LOCATION:Fatmans\, 36309 N Rte. 41\, Gurnee\, 60031\, United States
CATEGORIES:Car Show
ATTACH;FMTTYPE=image/png:https://fatmansgurnee.com/wp-content/uploads/2025/02/Fatmans-Car-Show-Schedule-2025-e1740716835152.png
END:VEVENT
BEGIN:VEVENT
DTSTART;TZID=America/Chicago:20250815T190000
DTEND;TZID=America/Chicago:20250815T223000
DTSTAMP:20260422T145350
CREATED:20250505T040909Z
LAST-MODIFIED:20250505T040909Z
UID:26218-1755284400-1755297000@fatmansgurnee.com
SUMMARY:The Wads Live Music at Fatmans
DESCRIPTION:
URL:https://fatmansgurnee.com/event/the-wads-live-music-at-fatmans-2
LOCATION:Fatmans\, 36309 N Rte. 41\, Gurnee\, 60031\, United States
CATEGORIES:Events,Live Music
END:VEVENT
BEGIN:VEVENT
DTSTART;VALUE=DATE:20250813
DTEND;VALUE=DATE:20250814
DTSTAMP:20260422T145350
CREATED:20241030T013120Z
LAST-MODIFIED:20250501T014254Z
UID:26026-1755043200-1755129599@fatmansgurnee.com
SUMMARY:Bingo Night
DESCRIPTION:
URL:https://fatmansgurnee.com/event/bingo-night-2025-08-13
LOCATION:Fatmans\, 36309 N Rte. 41\, Gurnee\, 60031\, United States
CATEGORIES:Specials
ATTACH;FMTTYPE=image/jpeg:https://fatmansgurnee.com/wp-content/uploads/2024/10/Fatmans-Bingo-Night.jpeg
END:VEVENT
BEGIN:VEVENT
DTSTART;TZID=America/Chicago:20250810T190000
DTEND;TZID=America/Chicago:20250810T223000
DTSTAMP:20260422T145350
CREATED:20250505T041043Z
LAST-MODIFIED:20250505T041043Z
UID:26220-1754852400-1754865000@fatmansgurnee.com
SUMMARY:Brecken Miles Live Music at Fatmans
DESCRIPTION:
URL:https://fatmansgurnee.com/event/brecken-miles-live-music-at-fatmans
LOCATION:Fatmans\, 36309 N Rte. 41\, Gurnee\, 60031\, United States
END:VEVENT
BEGIN:VEVENT
DTSTART;TZID=America/Chicago:20250809T190000
DTEND;TZID=America/Chicago:20250809T223000
DTSTAMP:20260422T145350
CREATED:20250505T035114Z
LAST-MODIFIED:20250505T035114Z
UID:26192-1754766000-1754778600@fatmansgurnee.com
SUMMARY:DJ Night at Fatmans
DESCRIPTION:
URL:https://fatmansgurnee.com/event/dj-night-at-fatmans
LOCATION:Fatmans\, 36309 N Rte. 41\, Gurnee\, 60031\, United States
CATEGORIES:Events,Live Music
END:VEVENT
BEGIN:VEVENT
DTSTART;TZID=America/Chicago:20250808T190000
DTEND;TZID=America/Chicago:20250808T223000
DTSTAMP:20260422T145350
CREATED:20250505T041351Z
LAST-MODIFIED:20250505T041351Z
UID:26224-1754679600-1754692200@fatmansgurnee.com
SUMMARY:Ivy Ford Live Music at Fatmans
DESCRIPTION:
URL:https://fatmansgurnee.com/event/ivy-ford-live-music-at-fatmans-2
LOCATION:Fatmans\, 36309 N Rte. 41\, Gurnee\, 60031\, United States
CATEGORIES:Events,Live Music
END:VEVENT
BEGIN:VEVENT
DTSTART;VALUE=DATE:20250806
DTEND;VALUE=DATE:20250807
DTSTAMP:20260422T145350
CREATED:20241030T013120Z
LAST-MODIFIED:20250501T014253Z
UID:26025-1754438400-1754524799@fatmansgurnee.com
SUMMARY:Bingo Night
DESCRIPTION:
URL:https://fatmansgurnee.com/event/bingo-night-2025-08-06
LOCATION:Fatmans\, 36309 N Rte. 41\, Gurnee\, 60031\, United States
CATEGORIES:Specials
ATTACH;FMTTYPE=image/jpeg:https://fatmansgurnee.com/wp-content/uploads/2024/10/Fatmans-Bingo-Night.jpeg
END:VEVENT
BEGIN:VEVENT
DTSTART;TZID=America/Chicago:20250803T160000
DTEND;TZID=America/Chicago:20250803T200000
DTSTAMP:20260422T145350
CREATED:20250505T034942Z
LAST-MODIFIED:20250505T034942Z
UID:26190-1754236800-1754251200@fatmansgurnee.com
SUMMARY:Sunday Funday with DJ at Fatmans
DESCRIPTION:
URL:https://fatmansgurnee.com/event/sunday-funday-with-dj-at-fatmans-6
LOCATION:Fatmans\, 36309 N Rte. 41\, Gurnee\, 60031\, United States
CATEGORIES:Events,Live Music
END:VEVENT
BEGIN:VEVENT
DTSTART;TZID=America/Chicago:20250802T190000
DTEND;TZID=America/Chicago:20250802T223000
DTSTAMP:20260422T145350
CREATED:20250505T040459Z
LAST-MODIFIED:20250505T040459Z
UID:26212-1754161200-1754173800@fatmansgurnee.com
SUMMARY:Simply Sound Live Music at Fatmans
DESCRIPTION:
URL:https://fatmansgurnee.com/event/simply-sound-live-music-at-fatmans-2
LOCATION:Fatmans\, 36309 N Rte. 41\, Gurnee\, 60031\, United States
CATEGORIES:Events,Live Music
END:VEVENT
BEGIN:VEVENT
DTSTART;TZID=America/Chicago:20250801T190000
DTEND;TZID=America/Chicago:20250801T223000
DTSTAMP:20260422T145350
CREATED:20250505T041909Z
LAST-MODIFIED:20250505T041909Z
UID:26232-1754074800-1754087400@fatmansgurnee.com
SUMMARY:Jessie's Girl Live Music at Fatmans
DESCRIPTION:
URL:https://fatmansgurnee.com/event/jessies-girl-live-music-at-fatmans
LOCATION:Fatmans\, 36309 N Rte. 41\, Gurnee\, 60031\, United States
CATEGORIES:Events,Live Music
END:VEVENT
BEGIN:VEVENT
DTSTART;VALUE=DATE:20250730
DTEND;VALUE=DATE:20250731
DTSTAMP:20260422T145350
CREATED:20241030T013120Z
LAST-MODIFIED:20250501T014252Z
UID:26024-1753833600-1753919999@fatmansgurnee.com
SUMMARY:Bingo Night
DESCRIPTION:
URL:https://fatmansgurnee.com/event/bingo-night-2025-07-30
LOCATION:Fatmans\, 36309 N Rte. 41\, Gurnee\, 60031\, United States
CATEGORIES:Specials
ATTACH;FMTTYPE=image/jpeg:https://fatmansgurnee.com/wp-content/uploads/2024/10/Fatmans-Bingo-Night.jpeg
END:VEVENT
BEGIN:VEVENT
DTSTART;TZID=America/Chicago:20250727T130000
DTEND;TZID=America/Chicago:20250727T163000
DTSTAMP:20260422T145350
CREATED:20250505T043910Z
LAST-MODIFIED:20250505T043936Z
UID:26258-1753621200-1753633800@fatmansgurnee.com
SUMMARY:Blues Family Robinson Live Music at Fatmans
DESCRIPTION:
URL:https://fatmansgurnee.com/event/blues-family-robinson-live-music-at-fatmans-3
LOCATION:Fatmans\, 36309 N Rte. 41\, Gurnee\, 60031\, United States
CATEGORIES:Events,Live Music
END:VEVENT
BEGIN:VEVENT
DTSTART;TZID=America/Chicago:20250726T190000
DTEND;TZID=America/Chicago:20250726T223000
DTSTAMP:20260422T145350
CREATED:20250505T041748Z
LAST-MODIFIED:20250505T041748Z
UID:26230-1753556400-1753569000@fatmansgurnee.com
SUMMARY:Dave & Taro Live Music at Fatmans
DESCRIPTION:
URL:https://fatmansgurnee.com/event/dave-taro-live-music-at-fatmans-3
LOCATION:Fatmans\, 36309 N Rte. 41\, Gurnee\, 60031\, United States
CATEGORIES:Events,Live Music
END:VEVENT
BEGIN:VEVENT
DTSTART;TZID=America/Chicago:20250726T090000
DTEND;TZID=America/Chicago:20250726T140000
DTSTAMP:20260422T145350
CREATED:20250228T043154Z
LAST-MODIFIED:20250228T043234Z
UID:25554-1753520400-1753538400@fatmansgurnee.com
SUMMARY:Fatmans Car Show
DESCRIPTION:
URL:https://fatmansgurnee.com/event/fatmans-car-show-2025-07-26
LOCATION:Fatmans\, 36309 N Rte. 41\, Gurnee\, 60031\, United States
CATEGORIES:Car Show
ATTACH;FMTTYPE=image/png:https://fatmansgurnee.com/wp-content/uploads/2025/02/Fatmans-Car-Show-Schedule-2025-e1740716835152.png
END:VEVENT
BEGIN:VEVENT
DTSTART;TZID=America/Chicago:20250725T190000
DTEND;TZID=America/Chicago:20250725T223000
DTSTAMP:20260422T145350
CREATED:20250505T045622Z
LAST-MODIFIED:20250505T045622Z
UID:26281-1753470000-1753482600@fatmansgurnee.com
SUMMARY:Marlon & The Shakes Live Music at Fatmans
DESCRIPTION:
URL:https://fatmansgurnee.com/event/marlon-the-shakes-live-music-at-fatmans
LOCATION:Fatmans\, 36309 N Rte. 41\, Gurnee\, 60031\, United States
CATEGORIES:Events,Live Music
END:VEVENT
BEGIN:VEVENT
DTSTART;VALUE=DATE:20250723
DTEND;VALUE=DATE:20250724
DTSTAMP:20260422T145350
CREATED:20241030T013120Z
LAST-MODIFIED:20250501T014251Z
UID:26023-1753228800-1753315199@fatmansgurnee.com
SUMMARY:Bingo Night
DESCRIPTION:
URL:https://fatmansgurnee.com/event/bingo-night-2025-07-23
LOCATION:Fatmans\, 36309 N Rte. 41\, Gurnee\, 60031\, United States
CATEGORIES:Specials
ATTACH;FMTTYPE=image/jpeg:https://fatmansgurnee.com/wp-content/uploads/2024/10/Fatmans-Bingo-Night.jpeg
END:VEVENT
BEGIN:VEVENT
DTSTART;TZID=America/Chicago:20250720T160000
DTEND;TZID=America/Chicago:20250720T200000
DTSTAMP:20260422T145350
CREATED:20250505T034807Z
LAST-MODIFIED:20250505T034807Z
UID:26188-1753027200-1753041600@fatmansgurnee.com
SUMMARY:Sunday Funday with DJ at Fatmans
DESCRIPTION:
URL:https://fatmansgurnee.com/event/sunday-funday-with-dj-at-fatmans-5
LOCATION:Fatmans\, 36309 N Rte. 41\, Gurnee\, 60031\, United States
CATEGORIES:Events,Live Music
END:VEVENT
BEGIN:VEVENT
DTSTART;TZID=America/Chicago:20250719T190000
DTEND;TZID=America/Chicago:20250719T223000
DTSTAMP:20260422T145350
CREATED:20250505T045003Z
LAST-MODIFIED:20250505T045003Z
UID:26273-1752951600-1752964200@fatmansgurnee.com
SUMMARY:Peter & The Versatiles Live Music At Fatmans
DESCRIPTION:
URL:https://fatmansgurnee.com/event/peter-the-versatiles-live-music-at-fatmans-3
LOCATION:Fatmans\, 36309 N Rte. 41\, Gurnee\, 60031\, United States
CATEGORIES:Events,Live Music
END:VEVENT
END:VCALENDAR