BEGIN:VCALENDAR
VERSION:2.0
PRODID:-//Fatmans - ECPv6.15.20//NONSGML v1.0//EN
CALSCALE:GREGORIAN
METHOD:PUBLISH
X-ORIGINAL-URL:https://fatmansgurnee.com
X-WR-CALDESC:Events for Fatmans
REFRESH-INTERVAL;VALUE=DURATION:PT1H
X-Robots-Tag:noindex
X-PUBLISHED-TTL:PT1H
BEGIN:VTIMEZONE
TZID:America/Chicago
BEGIN:DAYLIGHT
TZOFFSETFROM:-0600
TZOFFSETTO:-0500
TZNAME:CDT
DTSTART:20240310T080000
END:DAYLIGHT
BEGIN:STANDARD
TZOFFSETFROM:-0500
TZOFFSETTO:-0600
TZNAME:CST
DTSTART:20241103T070000
END:STANDARD
BEGIN:DAYLIGHT
TZOFFSETFROM:-0600
TZOFFSETTO:-0500
TZNAME:CDT
DTSTART:20250309T080000
END:DAYLIGHT
BEGIN:STANDARD
TZOFFSETFROM:-0500
TZOFFSETTO:-0600
TZNAME:CST
DTSTART:20251102T070000
END:STANDARD
BEGIN:DAYLIGHT
TZOFFSETFROM:-0600
TZOFFSETTO:-0500
TZNAME:CDT
DTSTART:20260308T080000
END:DAYLIGHT
BEGIN:STANDARD
TZOFFSETFROM:-0500
TZOFFSETTO:-0600
TZNAME:CST
DTSTART:20261101T070000
END:STANDARD
BEGIN:DAYLIGHT
TZOFFSETFROM:-0600
TZOFFSETTO:-0500
TZNAME:CDT
DTSTART:20270314T080000
END:DAYLIGHT
BEGIN:STANDARD
TZOFFSETFROM:-0500
TZOFFSETTO:-0600
TZNAME:CST
DTSTART:20271107T070000
END:STANDARD
END:VTIMEZONE
BEGIN:VEVENT
DTSTART;TZID=America/Chicago:20260207T200000
DTEND;TZID=America/Chicago:20260207T233000
DTSTAMP:20260422T092334
CREATED:20251020T184328Z
LAST-MODIFIED:20260120T035433Z
UID:26481-1770494400-1770507000@fatmansgurnee.com
SUMMARY:Live Music at Fatmans
DESCRIPTION:
URL:https://fatmansgurnee.com/event/live-music-at-fatmans-2026-02-07
LOCATION:Fatmans\, 36309 N Rte. 41\, Gurnee\, 60031\, United States
CATEGORIES:Events,Live Music
ATTACH;FMTTYPE=image/png:https://fatmansgurnee.com/wp-content/uploads/2026/01/Fatmans-winter-music-line-up-1-2026-e1768879160796.png
END:VEVENT
BEGIN:VEVENT
DTSTART;VALUE=DATE:20260204
DTEND;VALUE=DATE:20260205
DTSTAMP:20260422T092334
CREATED:20241030T013120Z
LAST-MODIFIED:20241030T013120Z
UID:26461-1770163200-1770249599@fatmansgurnee.com
SUMMARY:Bingo Night
DESCRIPTION:
URL:https://fatmansgurnee.com/event/bingo-night-2026-02-04
LOCATION:Fatmans\, 36309 N Rte. 41\, Gurnee\, 60031\, United States
CATEGORIES:Specials
ATTACH;FMTTYPE=image/jpeg:https://fatmansgurnee.com/wp-content/uploads/2024/10/Fatmans-Bingo-Night.jpeg
END:VEVENT
BEGIN:VEVENT
DTSTART;TZID=America/Chicago:20260131T200000
DTEND;TZID=America/Chicago:20260131T233000
DTSTAMP:20260422T092334
CREATED:20251020T184328Z
LAST-MODIFIED:20260120T035433Z
UID:26480-1769889600-1769902200@fatmansgurnee.com
SUMMARY:Live Music at Fatmans
DESCRIPTION:
URL:https://fatmansgurnee.com/event/live-music-at-fatmans-2026-01-31
LOCATION:Fatmans\, 36309 N Rte. 41\, Gurnee\, 60031\, United States
CATEGORIES:Events,Live Music
ATTACH;FMTTYPE=image/png:https://fatmansgurnee.com/wp-content/uploads/2026/01/Fatmans-winter-music-line-up-1-2026-e1768879160796.png
END:VEVENT
BEGIN:VEVENT
DTSTART;VALUE=DATE:20260128
DTEND;VALUE=DATE:20260129
DTSTAMP:20260422T092334
CREATED:20241030T013120Z
LAST-MODIFIED:20241030T013120Z
UID:26460-1769558400-1769644799@fatmansgurnee.com
SUMMARY:Bingo Night
DESCRIPTION:
URL:https://fatmansgurnee.com/event/bingo-night-2026-01-28
LOCATION:Fatmans\, 36309 N Rte. 41\, Gurnee\, 60031\, United States
CATEGORIES:Specials
ATTACH;FMTTYPE=image/jpeg:https://fatmansgurnee.com/wp-content/uploads/2024/10/Fatmans-Bingo-Night.jpeg
END:VEVENT
BEGIN:VEVENT
DTSTART;TZID=America/Chicago:20260124T200000
DTEND;TZID=America/Chicago:20260124T233000
DTSTAMP:20260422T092334
CREATED:20251020T184328Z
LAST-MODIFIED:20260120T035433Z
UID:26330-1769284800-1769297400@fatmansgurnee.com
SUMMARY:Live Music at Fatmans
DESCRIPTION:
URL:https://fatmansgurnee.com/event/live-music-at-fatmans
LOCATION:Fatmans\, 36309 N Rte. 41\, Gurnee\, 60031\, United States
CATEGORIES:Events,Live Music
ATTACH;FMTTYPE=image/png:https://fatmansgurnee.com/wp-content/uploads/2026/01/Fatmans-winter-music-line-up-1-2026-e1768879160796.png
END:VEVENT
BEGIN:VEVENT
DTSTART;VALUE=DATE:20260121
DTEND;VALUE=DATE:20260122
DTSTAMP:20260422T092334
CREATED:20241030T013120Z
LAST-MODIFIED:20241030T013120Z
UID:26459-1768953600-1769039999@fatmansgurnee.com
SUMMARY:Bingo Night
DESCRIPTION:
URL:https://fatmansgurnee.com/event/bingo-night-2026-01-21
LOCATION:Fatmans\, 36309 N Rte. 41\, Gurnee\, 60031\, United States
CATEGORIES:Specials
ATTACH;FMTTYPE=image/jpeg:https://fatmansgurnee.com/wp-content/uploads/2024/10/Fatmans-Bingo-Night.jpeg
END:VEVENT
BEGIN:VEVENT
DTSTART;VALUE=DATE:20260114
DTEND;VALUE=DATE:20260115
DTSTAMP:20260422T092334
CREATED:20241030T013120Z
LAST-MODIFIED:20241030T013120Z
UID:26458-1768348800-1768435199@fatmansgurnee.com
SUMMARY:Bingo Night
DESCRIPTION:
URL:https://fatmansgurnee.com/event/bingo-night-2026-01-14
LOCATION:Fatmans\, 36309 N Rte. 41\, Gurnee\, 60031\, United States
CATEGORIES:Specials
ATTACH;FMTTYPE=image/jpeg:https://fatmansgurnee.com/wp-content/uploads/2024/10/Fatmans-Bingo-Night.jpeg
END:VEVENT
BEGIN:VEVENT
DTSTART;VALUE=DATE:20260107
DTEND;VALUE=DATE:20260108
DTSTAMP:20260422T092334
CREATED:20241030T013120Z
LAST-MODIFIED:20241030T013120Z
UID:26457-1767744000-1767830399@fatmansgurnee.com
SUMMARY:Bingo Night
DESCRIPTION:
URL:https://fatmansgurnee.com/event/bingo-night-2026-01-07
LOCATION:Fatmans\, 36309 N Rte. 41\, Gurnee\, 60031\, United States
CATEGORIES:Specials
ATTACH;FMTTYPE=image/jpeg:https://fatmansgurnee.com/wp-content/uploads/2024/10/Fatmans-Bingo-Night.jpeg
END:VEVENT
BEGIN:VEVENT
DTSTART;VALUE=DATE:20251231
DTEND;VALUE=DATE:20260101
DTSTAMP:20260422T092334
CREATED:20241030T013120Z
LAST-MODIFIED:20260120T033900Z
UID:26047-1767139200-1767225599@fatmansgurnee.com
SUMMARY:Bingo Night
DESCRIPTION:
URL:https://fatmansgurnee.com/event/bingo-night-2025-12-31
LOCATION:Fatmans\, 36309 N Rte. 41\, Gurnee\, 60031\, United States
CATEGORIES:Specials
ATTACH;FMTTYPE=image/jpeg:https://fatmansgurnee.com/wp-content/uploads/2024/10/Fatmans-Bingo-Night.jpeg
END:VEVENT
BEGIN:VEVENT
DTSTART;VALUE=DATE:20251224
DTEND;VALUE=DATE:20251225
DTSTAMP:20260422T092334
CREATED:20241030T013120Z
LAST-MODIFIED:20260120T033859Z
UID:26046-1766534400-1766620799@fatmansgurnee.com
SUMMARY:Bingo Night
DESCRIPTION:
URL:https://fatmansgurnee.com/event/bingo-night-2025-12-24
LOCATION:Fatmans\, 36309 N Rte. 41\, Gurnee\, 60031\, United States
CATEGORIES:Specials
ATTACH;FMTTYPE=image/jpeg:https://fatmansgurnee.com/wp-content/uploads/2024/10/Fatmans-Bingo-Night.jpeg
END:VEVENT
BEGIN:VEVENT
DTSTART;VALUE=DATE:20251217
DTEND;VALUE=DATE:20251218
DTSTAMP:20260422T092334
CREATED:20241030T013120Z
LAST-MODIFIED:20260120T033858Z
UID:26045-1765929600-1766015999@fatmansgurnee.com
SUMMARY:Bingo Night
DESCRIPTION:
URL:https://fatmansgurnee.com/event/bingo-night-2025-12-17
LOCATION:Fatmans\, 36309 N Rte. 41\, Gurnee\, 60031\, United States
CATEGORIES:Specials
ATTACH;FMTTYPE=image/jpeg:https://fatmansgurnee.com/wp-content/uploads/2024/10/Fatmans-Bingo-Night.jpeg
END:VEVENT
BEGIN:VEVENT
DTSTART;VALUE=DATE:20251210
DTEND;VALUE=DATE:20251211
DTSTAMP:20260422T092334
CREATED:20241030T013120Z
LAST-MODIFIED:20260120T033857Z
UID:26044-1765324800-1765411199@fatmansgurnee.com
SUMMARY:Bingo Night
DESCRIPTION:
URL:https://fatmansgurnee.com/event/bingo-night-2025-12-10
LOCATION:Fatmans\, 36309 N Rte. 41\, Gurnee\, 60031\, United States
CATEGORIES:Specials
ATTACH;FMTTYPE=image/jpeg:https://fatmansgurnee.com/wp-content/uploads/2024/10/Fatmans-Bingo-Night.jpeg
END:VEVENT
BEGIN:VEVENT
DTSTART;VALUE=DATE:20251203
DTEND;VALUE=DATE:20251204
DTSTAMP:20260422T092334
CREATED:20241030T013120Z
LAST-MODIFIED:20250501T014313Z
UID:26043-1764720000-1764806399@fatmansgurnee.com
SUMMARY:Bingo Night
DESCRIPTION:
URL:https://fatmansgurnee.com/event/bingo-night-2025-12-03
LOCATION:Fatmans\, 36309 N Rte. 41\, Gurnee\, 60031\, United States
CATEGORIES:Specials
ATTACH;FMTTYPE=image/jpeg:https://fatmansgurnee.com/wp-content/uploads/2024/10/Fatmans-Bingo-Night.jpeg
END:VEVENT
BEGIN:VEVENT
DTSTART;VALUE=DATE:20251126
DTEND;VALUE=DATE:20251127
DTSTAMP:20260422T092334
CREATED:20241030T013120Z
LAST-MODIFIED:20250501T014312Z
UID:26042-1764115200-1764201599@fatmansgurnee.com
SUMMARY:Bingo Night
DESCRIPTION:
URL:https://fatmansgurnee.com/event/bingo-night-2025-11-26
LOCATION:Fatmans\, 36309 N Rte. 41\, Gurnee\, 60031\, United States
CATEGORIES:Specials
ATTACH;FMTTYPE=image/jpeg:https://fatmansgurnee.com/wp-content/uploads/2024/10/Fatmans-Bingo-Night.jpeg
END:VEVENT
BEGIN:VEVENT
DTSTART;VALUE=DATE:20251119
DTEND;VALUE=DATE:20251120
DTSTAMP:20260422T092334
CREATED:20241030T013120Z
LAST-MODIFIED:20250501T014311Z
UID:26041-1763510400-1763596799@fatmansgurnee.com
SUMMARY:Bingo Night
DESCRIPTION:
URL:https://fatmansgurnee.com/event/bingo-night-2025-11-19
LOCATION:Fatmans\, 36309 N Rte. 41\, Gurnee\, 60031\, United States
CATEGORIES:Specials
ATTACH;FMTTYPE=image/jpeg:https://fatmansgurnee.com/wp-content/uploads/2024/10/Fatmans-Bingo-Night.jpeg
END:VEVENT
BEGIN:VEVENT
DTSTART;VALUE=DATE:20251112
DTEND;VALUE=DATE:20251113
DTSTAMP:20260422T092334
CREATED:20241030T013120Z
LAST-MODIFIED:20250501T014310Z
UID:26039-1762905600-1762991999@fatmansgurnee.com
SUMMARY:Bingo Night
DESCRIPTION:
URL:https://fatmansgurnee.com/event/bingo-night-2025-11-12
LOCATION:Fatmans\, 36309 N Rte. 41\, Gurnee\, 60031\, United States
CATEGORIES:Specials
ATTACH;FMTTYPE=image/jpeg:https://fatmansgurnee.com/wp-content/uploads/2024/10/Fatmans-Bingo-Night.jpeg
END:VEVENT
BEGIN:VEVENT
DTSTART;VALUE=DATE:20251105
DTEND;VALUE=DATE:20251106
DTSTAMP:20260422T092334
CREATED:20241030T013120Z
LAST-MODIFIED:20250501T014309Z
UID:26038-1762300800-1762387199@fatmansgurnee.com
SUMMARY:Bingo Night
DESCRIPTION:
URL:https://fatmansgurnee.com/event/bingo-night-2025-11-05
LOCATION:Fatmans\, 36309 N Rte. 41\, Gurnee\, 60031\, United States
CATEGORIES:Specials
ATTACH;FMTTYPE=image/jpeg:https://fatmansgurnee.com/wp-content/uploads/2024/10/Fatmans-Bingo-Night.jpeg
END:VEVENT
BEGIN:VEVENT
DTSTART;TZID=America/Chicago:20251031T200000
DTEND;TZID=America/Chicago:20251101T000000
DTSTAMP:20260422T092334
CREATED:20251024T145705Z
LAST-MODIFIED:20251024T145705Z
UID:26403-1761940800-1761955200@fatmansgurnee.com
SUMMARY:Halloween Party 2025
DESCRIPTION:
URL:https://fatmansgurnee.com/event/halloween-party-2025
LOCATION:Fatmans\, 36309 N Rte. 41\, Gurnee\, 60031\, United States
CATEGORIES:Events,Halloween
ATTACH;FMTTYPE=image/jpeg:https://fatmansgurnee.com/wp-content/uploads/2025/10/fatmans-halloween-2025-e1761317668234.jpg
END:VEVENT
BEGIN:VEVENT
DTSTART;VALUE=DATE:20251029
DTEND;VALUE=DATE:20251030
DTSTAMP:20260422T092334
CREATED:20241030T013120Z
LAST-MODIFIED:20250501T014308Z
UID:26037-1761696000-1761782399@fatmansgurnee.com
SUMMARY:Bingo Night
DESCRIPTION:
URL:https://fatmansgurnee.com/event/bingo-night-2025-10-29
LOCATION:Fatmans\, 36309 N Rte. 41\, Gurnee\, 60031\, United States
CATEGORIES:Specials
ATTACH;FMTTYPE=image/jpeg:https://fatmansgurnee.com/wp-content/uploads/2024/10/Fatmans-Bingo-Night.jpeg
END:VEVENT
BEGIN:VEVENT
DTSTART;TZID=America/Chicago:20251025T090000
DTEND;TZID=America/Chicago:20251025T140000
DTSTAMP:20260422T092334
CREATED:20250228T043154Z
LAST-MODIFIED:20250228T043236Z
UID:25558-1761382800-1761400800@fatmansgurnee.com
SUMMARY:Fatmans Car Show
DESCRIPTION:
URL:https://fatmansgurnee.com/event/fatmans-car-show-2025-10-25
LOCATION:Fatmans\, 36309 N Rte. 41\, Gurnee\, 60031\, United States
CATEGORIES:Car Show
ATTACH;FMTTYPE=image/png:https://fatmansgurnee.com/wp-content/uploads/2025/02/Fatmans-Car-Show-Schedule-2025-e1740716835152.png
END:VEVENT
BEGIN:VEVENT
DTSTART;VALUE=DATE:20251022
DTEND;VALUE=DATE:20251023
DTSTAMP:20260422T092334
CREATED:20241030T013120Z
LAST-MODIFIED:20250501T014307Z
UID:26036-1761091200-1761177599@fatmansgurnee.com
SUMMARY:Bingo Night
DESCRIPTION:
URL:https://fatmansgurnee.com/event/bingo-night-2025-10-22
LOCATION:Fatmans\, 36309 N Rte. 41\, Gurnee\, 60031\, United States
CATEGORIES:Specials
ATTACH;FMTTYPE=image/jpeg:https://fatmansgurnee.com/wp-content/uploads/2024/10/Fatmans-Bingo-Night.jpeg
END:VEVENT
BEGIN:VEVENT
DTSTART;VALUE=DATE:20251015
DTEND;VALUE=DATE:20251016
DTSTAMP:20260422T092334
CREATED:20241030T013120Z
LAST-MODIFIED:20250501T014306Z
UID:26035-1760486400-1760572799@fatmansgurnee.com
SUMMARY:Bingo Night
DESCRIPTION:
URL:https://fatmansgurnee.com/event/bingo-night-2025-10-15
LOCATION:Fatmans\, 36309 N Rte. 41\, Gurnee\, 60031\, United States
CATEGORIES:Specials
ATTACH;FMTTYPE=image/jpeg:https://fatmansgurnee.com/wp-content/uploads/2024/10/Fatmans-Bingo-Night.jpeg
END:VEVENT
BEGIN:VEVENT
DTSTART;VALUE=DATE:20251008
DTEND;VALUE=DATE:20251009
DTSTAMP:20260422T092334
CREATED:20241030T013120Z
LAST-MODIFIED:20250501T014305Z
UID:26034-1759881600-1759967999@fatmansgurnee.com
SUMMARY:Bingo Night
DESCRIPTION:
URL:https://fatmansgurnee.com/event/bingo-night-2025-10-08
LOCATION:Fatmans\, 36309 N Rte. 41\, Gurnee\, 60031\, United States
CATEGORIES:Specials
ATTACH;FMTTYPE=image/jpeg:https://fatmansgurnee.com/wp-content/uploads/2024/10/Fatmans-Bingo-Night.jpeg
END:VEVENT
BEGIN:VEVENT
DTSTART;TZID=America/Chicago:20251004T090000
DTEND;TZID=America/Chicago:20251004T140000
DTSTAMP:20260422T092334
CREATED:20250228T043154Z
LAST-MODIFIED:20250228T043235Z
UID:25557-1759568400-1759586400@fatmansgurnee.com
SUMMARY:Fatmans Car Show
DESCRIPTION:
URL:https://fatmansgurnee.com/event/fatmans-car-show-2025-10-04
LOCATION:Fatmans\, 36309 N Rte. 41\, Gurnee\, 60031\, United States
CATEGORIES:Car Show
ATTACH;FMTTYPE=image/png:https://fatmansgurnee.com/wp-content/uploads/2025/02/Fatmans-Car-Show-Schedule-2025-e1740716835152.png
END:VEVENT
BEGIN:VEVENT
DTSTART;VALUE=DATE:20251001
DTEND;VALUE=DATE:20251002
DTSTAMP:20260422T092334
CREATED:20241030T013120Z
LAST-MODIFIED:20250501T014304Z
UID:26033-1759276800-1759363199@fatmansgurnee.com
SUMMARY:Bingo Night
DESCRIPTION:
URL:https://fatmansgurnee.com/event/bingo-night-2025-10-01
LOCATION:Fatmans\, 36309 N Rte. 41\, Gurnee\, 60031\, United States
CATEGORIES:Specials
ATTACH;FMTTYPE=image/jpeg:https://fatmansgurnee.com/wp-content/uploads/2024/10/Fatmans-Bingo-Night.jpeg
END:VEVENT
BEGIN:VEVENT
DTSTART;TZID=America/Chicago:20250928T160000
DTEND;TZID=America/Chicago:20250928T200000
DTSTAMP:20260422T092334
CREATED:20250505T035719Z
LAST-MODIFIED:20250505T035719Z
UID:26202-1759075200-1759089600@fatmansgurnee.com
SUMMARY:Sunday Funday with DJ at Fatmans
DESCRIPTION:
URL:https://fatmansgurnee.com/event/sunday-funday-with-dj-at-fatmans-10
LOCATION:Fatmans\, 36309 N Rte. 41\, Gurnee\, 60031\, United States
CATEGORIES:Events,Live Music
END:VEVENT
BEGIN:VEVENT
DTSTART;TZID=America/Chicago:20250927T190000
DTEND;TZID=America/Chicago:20250927T223000
DTSTAMP:20260422T092334
CREATED:20250505T041630Z
LAST-MODIFIED:20250505T041630Z
UID:26228-1758999600-1759012200@fatmansgurnee.com
SUMMARY:Dave & Taro Live Music at Fatmans
DESCRIPTION:
URL:https://fatmansgurnee.com/event/dave-taro-live-music-at-fatmans-2
LOCATION:Fatmans\, 36309 N Rte. 41\, Gurnee\, 60031\, United States
CATEGORIES:Events,Live Music
END:VEVENT
BEGIN:VEVENT
DTSTART;TZID=America/Chicago:20250926T190000
DTEND;TZID=America/Chicago:20250926T223000
DTSTAMP:20260422T092334
CREATED:20250505T041502Z
LAST-MODIFIED:20250505T041502Z
UID:26226-1758913200-1758925800@fatmansgurnee.com
SUMMARY:Ivy Ford Live Music at Fatmans
DESCRIPTION:
URL:https://fatmansgurnee.com/event/ivy-ford-live-music-at-fatmans-3
LOCATION:Fatmans\, 36309 N Rte. 41\, Gurnee\, 60031\, United States
CATEGORIES:Events,Live Music
END:VEVENT
BEGIN:VEVENT
DTSTART;VALUE=DATE:20250924
DTEND;VALUE=DATE:20250925
DTSTAMP:20260422T092334
CREATED:20241030T013120Z
LAST-MODIFIED:20250501T014300Z
UID:26032-1758672000-1758758399@fatmansgurnee.com
SUMMARY:Bingo Night
DESCRIPTION:
URL:https://fatmansgurnee.com/event/bingo-night-2025-09-24
LOCATION:Fatmans\, 36309 N Rte. 41\, Gurnee\, 60031\, United States
CATEGORIES:Specials
ATTACH;FMTTYPE=image/jpeg:https://fatmansgurnee.com/wp-content/uploads/2024/10/Fatmans-Bingo-Night.jpeg
END:VEVENT
BEGIN:VEVENT
DTSTART;TZID=America/Chicago:20250921T130000
DTEND;TZID=America/Chicago:20250921T163000
DTSTAMP:20260422T092334
CREATED:20250505T040629Z
LAST-MODIFIED:20250505T050704Z
UID:26214-1758459600-1758472200@fatmansgurnee.com
SUMMARY:Simply Sound Live Music at Fatmans
DESCRIPTION:
URL:https://fatmansgurnee.com/event/simply-sound-live-music-at-fatmans-3
LOCATION:Fatmans\, 36309 N Rte. 41\, Gurnee\, 60031\, United States
END:VEVENT
END:VCALENDAR