BEGIN:VCALENDAR
VERSION:2.0
PRODID:-//Fatmans - ECPv6.15.20//NONSGML v1.0//EN
CALSCALE:GREGORIAN
METHOD:PUBLISH
X-WR-CALNAME:Fatmans
X-ORIGINAL-URL:https://fatmansgurnee.com
X-WR-CALDESC:Events for Fatmans
REFRESH-INTERVAL;VALUE=DURATION:PT1H
X-Robots-Tag:noindex
X-PUBLISHED-TTL:PT1H
BEGIN:VTIMEZONE
TZID:America/Chicago
BEGIN:DAYLIGHT
TZOFFSETFROM:-0600
TZOFFSETTO:-0500
TZNAME:CDT
DTSTART:20240310T080000
END:DAYLIGHT
BEGIN:STANDARD
TZOFFSETFROM:-0500
TZOFFSETTO:-0600
TZNAME:CST
DTSTART:20241103T070000
END:STANDARD
BEGIN:DAYLIGHT
TZOFFSETFROM:-0600
TZOFFSETTO:-0500
TZNAME:CDT
DTSTART:20250309T080000
END:DAYLIGHT
BEGIN:STANDARD
TZOFFSETFROM:-0500
TZOFFSETTO:-0600
TZNAME:CST
DTSTART:20251102T070000
END:STANDARD
BEGIN:DAYLIGHT
TZOFFSETFROM:-0600
TZOFFSETTO:-0500
TZNAME:CDT
DTSTART:20260308T080000
END:DAYLIGHT
BEGIN:STANDARD
TZOFFSETFROM:-0500
TZOFFSETTO:-0600
TZNAME:CST
DTSTART:20261101T070000
END:STANDARD
BEGIN:DAYLIGHT
TZOFFSETFROM:-0600
TZOFFSETTO:-0500
TZNAME:CDT
DTSTART:20270314T080000
END:DAYLIGHT
BEGIN:STANDARD
TZOFFSETFROM:-0500
TZOFFSETTO:-0600
TZNAME:CST
DTSTART:20271107T070000
END:STANDARD
END:VTIMEZONE
BEGIN:VEVENT
DTSTART;TZID=America/Chicago:20260418T200000
DTEND;TZID=America/Chicago:20260418T233000
DTSTAMP:20260422T073117
CREATED:20251020T184328Z
LAST-MODIFIED:20260120T035447Z
UID:26491-1776542400-1776555000@fatmansgurnee.com
SUMMARY:Live Music at Fatmans
DESCRIPTION:
URL:https://fatmansgurnee.com/event/live-music-at-fatmans-2026-04-18
LOCATION:Fatmans\, 36309 N Rte. 41\, Gurnee\, 60031\, United States
CATEGORIES:Events,Live Music
ATTACH;FMTTYPE=image/png:https://fatmansgurnee.com/wp-content/uploads/2026/01/Fatmans-winter-music-line-up-1-2026-e1768879160796.png
END:VEVENT
BEGIN:VEVENT
DTSTART;VALUE=DATE:20260415
DTEND;VALUE=DATE:20260416
DTSTAMP:20260422T073117
CREATED:20241030T013120Z
LAST-MODIFIED:20241030T013120Z
UID:26471-1776211200-1776297599@fatmansgurnee.com
SUMMARY:Bingo Night
DESCRIPTION:
URL:https://fatmansgurnee.com/event/bingo-night-2026-04-15
LOCATION:Fatmans\, 36309 N Rte. 41\, Gurnee\, 60031\, United States
CATEGORIES:Specials
ATTACH;FMTTYPE=image/jpeg:https://fatmansgurnee.com/wp-content/uploads/2024/10/Fatmans-Bingo-Night.jpeg
END:VEVENT
BEGIN:VEVENT
DTSTART;TZID=America/Chicago:20260411T200000
DTEND;TZID=America/Chicago:20260411T233000
DTSTAMP:20260422T073117
CREATED:20251020T184328Z
LAST-MODIFIED:20260120T035446Z
UID:26490-1775937600-1775950200@fatmansgurnee.com
SUMMARY:Live Music at Fatmans
DESCRIPTION:
URL:https://fatmansgurnee.com/event/live-music-at-fatmans-2026-04-11
LOCATION:Fatmans\, 36309 N Rte. 41\, Gurnee\, 60031\, United States
CATEGORIES:Events,Live Music
ATTACH;FMTTYPE=image/png:https://fatmansgurnee.com/wp-content/uploads/2026/01/Fatmans-winter-music-line-up-1-2026-e1768879160796.png
END:VEVENT
BEGIN:VEVENT
DTSTART;VALUE=DATE:20260408
DTEND;VALUE=DATE:20260409
DTSTAMP:20260422T073117
CREATED:20241030T013120Z
LAST-MODIFIED:20241030T013120Z
UID:26470-1775606400-1775692799@fatmansgurnee.com
SUMMARY:Bingo Night
DESCRIPTION:
URL:https://fatmansgurnee.com/event/bingo-night-2026-04-08
LOCATION:Fatmans\, 36309 N Rte. 41\, Gurnee\, 60031\, United States
CATEGORIES:Specials
ATTACH;FMTTYPE=image/jpeg:https://fatmansgurnee.com/wp-content/uploads/2024/10/Fatmans-Bingo-Night.jpeg
END:VEVENT
BEGIN:VEVENT
DTSTART;TZID=America/Chicago:20260404T200000
DTEND;TZID=America/Chicago:20260404T233000
DTSTAMP:20260422T073117
CREATED:20251020T184328Z
LAST-MODIFIED:20260120T035436Z
UID:26489-1775332800-1775345400@fatmansgurnee.com
SUMMARY:Live Music at Fatmans
DESCRIPTION:
URL:https://fatmansgurnee.com/event/live-music-at-fatmans-2026-04-04
LOCATION:Fatmans\, 36309 N Rte. 41\, Gurnee\, 60031\, United States
CATEGORIES:Events,Live Music
ATTACH;FMTTYPE=image/png:https://fatmansgurnee.com/wp-content/uploads/2026/01/Fatmans-winter-music-line-up-1-2026-e1768879160796.png
END:VEVENT
BEGIN:VEVENT
DTSTART;VALUE=DATE:20260401
DTEND;VALUE=DATE:20260402
DTSTAMP:20260422T073117
CREATED:20241030T013120Z
LAST-MODIFIED:20241030T013120Z
UID:26469-1775001600-1775087999@fatmansgurnee.com
SUMMARY:Bingo Night
DESCRIPTION:
URL:https://fatmansgurnee.com/event/bingo-night-2026-04-01
LOCATION:Fatmans\, 36309 N Rte. 41\, Gurnee\, 60031\, United States
CATEGORIES:Specials
ATTACH;FMTTYPE=image/jpeg:https://fatmansgurnee.com/wp-content/uploads/2024/10/Fatmans-Bingo-Night.jpeg
END:VEVENT
BEGIN:VEVENT
DTSTART;TZID=America/Chicago:20260328T200000
DTEND;TZID=America/Chicago:20260328T233000
DTSTAMP:20260422T073117
CREATED:20251020T184328Z
LAST-MODIFIED:20260120T035436Z
UID:26488-1774728000-1774740600@fatmansgurnee.com
SUMMARY:Live Music at Fatmans
DESCRIPTION:
URL:https://fatmansgurnee.com/event/live-music-at-fatmans-2026-03-28
LOCATION:Fatmans\, 36309 N Rte. 41\, Gurnee\, 60031\, United States
CATEGORIES:Events,Live Music
ATTACH;FMTTYPE=image/png:https://fatmansgurnee.com/wp-content/uploads/2026/01/Fatmans-winter-music-line-up-1-2026-e1768879160796.png
END:VEVENT
BEGIN:VEVENT
DTSTART;VALUE=DATE:20260325
DTEND;VALUE=DATE:20260326
DTSTAMP:20260422T073117
CREATED:20241030T013120Z
LAST-MODIFIED:20241030T013120Z
UID:26468-1774396800-1774483199@fatmansgurnee.com
SUMMARY:Bingo Night
DESCRIPTION:
URL:https://fatmansgurnee.com/event/bingo-night-2026-03-25
LOCATION:Fatmans\, 36309 N Rte. 41\, Gurnee\, 60031\, United States
CATEGORIES:Specials
ATTACH;FMTTYPE=image/jpeg:https://fatmansgurnee.com/wp-content/uploads/2024/10/Fatmans-Bingo-Night.jpeg
END:VEVENT
BEGIN:VEVENT
DTSTART;TZID=America/Chicago:20260321T200000
DTEND;TZID=America/Chicago:20260321T233000
DTSTAMP:20260422T073117
CREATED:20251020T184328Z
LAST-MODIFIED:20260120T035435Z
UID:26487-1774123200-1774135800@fatmansgurnee.com
SUMMARY:Live Music at Fatmans
DESCRIPTION:
URL:https://fatmansgurnee.com/event/live-music-at-fatmans-2026-03-21
LOCATION:Fatmans\, 36309 N Rte. 41\, Gurnee\, 60031\, United States
CATEGORIES:Events,Live Music
ATTACH;FMTTYPE=image/png:https://fatmansgurnee.com/wp-content/uploads/2026/01/Fatmans-winter-music-line-up-1-2026-e1768879160796.png
END:VEVENT
BEGIN:VEVENT
DTSTART;VALUE=DATE:20260318
DTEND;VALUE=DATE:20260319
DTSTAMP:20260422T073117
CREATED:20241030T013120Z
LAST-MODIFIED:20241030T013120Z
UID:26467-1773792000-1773878399@fatmansgurnee.com
SUMMARY:Bingo Night
DESCRIPTION:
URL:https://fatmansgurnee.com/event/bingo-night-2026-03-18
LOCATION:Fatmans\, 36309 N Rte. 41\, Gurnee\, 60031\, United States
CATEGORIES:Specials
ATTACH;FMTTYPE=image/jpeg:https://fatmansgurnee.com/wp-content/uploads/2024/10/Fatmans-Bingo-Night.jpeg
END:VEVENT
BEGIN:VEVENT
DTSTART;TZID=America/Chicago:20260314T200000
DTEND;TZID=America/Chicago:20260314T233000
DTSTAMP:20260422T073117
CREATED:20251020T184328Z
LAST-MODIFIED:20260120T035435Z
UID:26486-1773518400-1773531000@fatmansgurnee.com
SUMMARY:Live Music at Fatmans
DESCRIPTION:
URL:https://fatmansgurnee.com/event/live-music-at-fatmans-2026-03-14
LOCATION:Fatmans\, 36309 N Rte. 41\, Gurnee\, 60031\, United States
CATEGORIES:Events,Live Music
ATTACH;FMTTYPE=image/png:https://fatmansgurnee.com/wp-content/uploads/2026/01/Fatmans-winter-music-line-up-1-2026-e1768879160796.png
END:VEVENT
BEGIN:VEVENT
DTSTART;VALUE=DATE:20260311
DTEND;VALUE=DATE:20260312
DTSTAMP:20260422T073117
CREATED:20241030T013120Z
LAST-MODIFIED:20241030T013120Z
UID:26466-1773187200-1773273599@fatmansgurnee.com
SUMMARY:Bingo Night
DESCRIPTION:
URL:https://fatmansgurnee.com/event/bingo-night-2026-03-11
LOCATION:Fatmans\, 36309 N Rte. 41\, Gurnee\, 60031\, United States
CATEGORIES:Specials
ATTACH;FMTTYPE=image/jpeg:https://fatmansgurnee.com/wp-content/uploads/2024/10/Fatmans-Bingo-Night.jpeg
END:VEVENT
BEGIN:VEVENT
DTSTART;TZID=America/Chicago:20260307T200000
DTEND;TZID=America/Chicago:20260307T233000
DTSTAMP:20260422T073117
CREATED:20251020T184328Z
LAST-MODIFIED:20260120T035434Z
UID:26485-1772913600-1772926200@fatmansgurnee.com
SUMMARY:Live Music at Fatmans
DESCRIPTION:
URL:https://fatmansgurnee.com/event/live-music-at-fatmans-2026-03-07
LOCATION:Fatmans\, 36309 N Rte. 41\, Gurnee\, 60031\, United States
CATEGORIES:Events,Live Music
ATTACH;FMTTYPE=image/png:https://fatmansgurnee.com/wp-content/uploads/2026/01/Fatmans-winter-music-line-up-1-2026-e1768879160796.png
END:VEVENT
BEGIN:VEVENT
DTSTART;VALUE=DATE:20260304
DTEND;VALUE=DATE:20260305
DTSTAMP:20260422T073117
CREATED:20241030T013120Z
LAST-MODIFIED:20241030T013120Z
UID:26465-1772582400-1772668799@fatmansgurnee.com
SUMMARY:Bingo Night
DESCRIPTION:
URL:https://fatmansgurnee.com/event/bingo-night-2026-03-04
LOCATION:Fatmans\, 36309 N Rte. 41\, Gurnee\, 60031\, United States
CATEGORIES:Specials
ATTACH;FMTTYPE=image/jpeg:https://fatmansgurnee.com/wp-content/uploads/2024/10/Fatmans-Bingo-Night.jpeg
END:VEVENT
BEGIN:VEVENT
DTSTART;TZID=America/Chicago:20260228T200000
DTEND;TZID=America/Chicago:20260228T233000
DTSTAMP:20260422T073117
CREATED:20251020T184328Z
LAST-MODIFIED:20260120T035434Z
UID:26484-1772308800-1772321400@fatmansgurnee.com
SUMMARY:Live Music at Fatmans
DESCRIPTION:
URL:https://fatmansgurnee.com/event/live-music-at-fatmans-2026-02-28
LOCATION:Fatmans\, 36309 N Rte. 41\, Gurnee\, 60031\, United States
CATEGORIES:Events,Live Music
ATTACH;FMTTYPE=image/png:https://fatmansgurnee.com/wp-content/uploads/2026/01/Fatmans-winter-music-line-up-1-2026-e1768879160796.png
END:VEVENT
BEGIN:VEVENT
DTSTART;VALUE=DATE:20260225
DTEND;VALUE=DATE:20260226
DTSTAMP:20260422T073117
CREATED:20241030T013120Z
LAST-MODIFIED:20241030T013120Z
UID:26464-1771977600-1772063999@fatmansgurnee.com
SUMMARY:Bingo Night
DESCRIPTION:
URL:https://fatmansgurnee.com/event/bingo-night-2026-02-25
LOCATION:Fatmans\, 36309 N Rte. 41\, Gurnee\, 60031\, United States
CATEGORIES:Specials
ATTACH;FMTTYPE=image/jpeg:https://fatmansgurnee.com/wp-content/uploads/2024/10/Fatmans-Bingo-Night.jpeg
END:VEVENT
BEGIN:VEVENT
DTSTART;TZID=America/Chicago:20260221T200000
DTEND;TZID=America/Chicago:20260221T233000
DTSTAMP:20260422T073117
CREATED:20251020T184328Z
LAST-MODIFIED:20260120T035434Z
UID:26483-1771704000-1771716600@fatmansgurnee.com
SUMMARY:Live Music at Fatmans
DESCRIPTION:
URL:https://fatmansgurnee.com/event/live-music-at-fatmans-2026-02-21
LOCATION:Fatmans\, 36309 N Rte. 41\, Gurnee\, 60031\, United States
CATEGORIES:Events,Live Music
ATTACH;FMTTYPE=image/png:https://fatmansgurnee.com/wp-content/uploads/2026/01/Fatmans-winter-music-line-up-1-2026-e1768879160796.png
END:VEVENT
BEGIN:VEVENT
DTSTART;VALUE=DATE:20260218
DTEND;VALUE=DATE:20260219
DTSTAMP:20260422T073117
CREATED:20241030T013120Z
LAST-MODIFIED:20241030T013120Z
UID:26463-1771372800-1771459199@fatmansgurnee.com
SUMMARY:Bingo Night
DESCRIPTION:
URL:https://fatmansgurnee.com/event/bingo-night-2026-02-18
LOCATION:Fatmans\, 36309 N Rte. 41\, Gurnee\, 60031\, United States
CATEGORIES:Specials
ATTACH;FMTTYPE=image/jpeg:https://fatmansgurnee.com/wp-content/uploads/2024/10/Fatmans-Bingo-Night.jpeg
END:VEVENT
BEGIN:VEVENT
DTSTART;TZID=America/Chicago:20260214T200000
DTEND;TZID=America/Chicago:20260214T233000
DTSTAMP:20260422T073117
CREATED:20251020T184328Z
LAST-MODIFIED:20260120T035433Z
UID:26482-1771099200-1771111800@fatmansgurnee.com
SUMMARY:Live Music at Fatmans
DESCRIPTION:
URL:https://fatmansgurnee.com/event/live-music-at-fatmans-2026-02-14
LOCATION:Fatmans\, 36309 N Rte. 41\, Gurnee\, 60031\, United States
CATEGORIES:Events,Live Music
ATTACH;FMTTYPE=image/png:https://fatmansgurnee.com/wp-content/uploads/2026/01/Fatmans-winter-music-line-up-1-2026-e1768879160796.png
END:VEVENT
BEGIN:VEVENT
DTSTART;VALUE=DATE:20260211
DTEND;VALUE=DATE:20260212
DTSTAMP:20260422T073117
CREATED:20241030T013120Z
LAST-MODIFIED:20241030T013120Z
UID:26462-1770768000-1770854399@fatmansgurnee.com
SUMMARY:Bingo Night
DESCRIPTION:
URL:https://fatmansgurnee.com/event/bingo-night-2026-02-11
LOCATION:Fatmans\, 36309 N Rte. 41\, Gurnee\, 60031\, United States
CATEGORIES:Specials
ATTACH;FMTTYPE=image/jpeg:https://fatmansgurnee.com/wp-content/uploads/2024/10/Fatmans-Bingo-Night.jpeg
END:VEVENT
BEGIN:VEVENT
DTSTART;TZID=America/Chicago:20260207T200000
DTEND;TZID=America/Chicago:20260207T233000
DTSTAMP:20260422T073117
CREATED:20251020T184328Z
LAST-MODIFIED:20260120T035433Z
UID:26481-1770494400-1770507000@fatmansgurnee.com
SUMMARY:Live Music at Fatmans
DESCRIPTION:
URL:https://fatmansgurnee.com/event/live-music-at-fatmans-2026-02-07
LOCATION:Fatmans\, 36309 N Rte. 41\, Gurnee\, 60031\, United States
CATEGORIES:Events,Live Music
ATTACH;FMTTYPE=image/png:https://fatmansgurnee.com/wp-content/uploads/2026/01/Fatmans-winter-music-line-up-1-2026-e1768879160796.png
END:VEVENT
BEGIN:VEVENT
DTSTART;VALUE=DATE:20260204
DTEND;VALUE=DATE:20260205
DTSTAMP:20260422T073117
CREATED:20241030T013120Z
LAST-MODIFIED:20241030T013120Z
UID:26461-1770163200-1770249599@fatmansgurnee.com
SUMMARY:Bingo Night
DESCRIPTION:
URL:https://fatmansgurnee.com/event/bingo-night-2026-02-04
LOCATION:Fatmans\, 36309 N Rte. 41\, Gurnee\, 60031\, United States
CATEGORIES:Specials
ATTACH;FMTTYPE=image/jpeg:https://fatmansgurnee.com/wp-content/uploads/2024/10/Fatmans-Bingo-Night.jpeg
END:VEVENT
BEGIN:VEVENT
DTSTART;TZID=America/Chicago:20260131T200000
DTEND;TZID=America/Chicago:20260131T233000
DTSTAMP:20260422T073117
CREATED:20251020T184328Z
LAST-MODIFIED:20260120T035433Z
UID:26480-1769889600-1769902200@fatmansgurnee.com
SUMMARY:Live Music at Fatmans
DESCRIPTION:
URL:https://fatmansgurnee.com/event/live-music-at-fatmans-2026-01-31
LOCATION:Fatmans\, 36309 N Rte. 41\, Gurnee\, 60031\, United States
CATEGORIES:Events,Live Music
ATTACH;FMTTYPE=image/png:https://fatmansgurnee.com/wp-content/uploads/2026/01/Fatmans-winter-music-line-up-1-2026-e1768879160796.png
END:VEVENT
BEGIN:VEVENT
DTSTART;VALUE=DATE:20260128
DTEND;VALUE=DATE:20260129
DTSTAMP:20260422T073117
CREATED:20241030T013120Z
LAST-MODIFIED:20241030T013120Z
UID:26460-1769558400-1769644799@fatmansgurnee.com
SUMMARY:Bingo Night
DESCRIPTION:
URL:https://fatmansgurnee.com/event/bingo-night-2026-01-28
LOCATION:Fatmans\, 36309 N Rte. 41\, Gurnee\, 60031\, United States
CATEGORIES:Specials
ATTACH;FMTTYPE=image/jpeg:https://fatmansgurnee.com/wp-content/uploads/2024/10/Fatmans-Bingo-Night.jpeg
END:VEVENT
BEGIN:VEVENT
DTSTART;TZID=America/Chicago:20260124T200000
DTEND;TZID=America/Chicago:20260124T233000
DTSTAMP:20260422T073117
CREATED:20251020T184328Z
LAST-MODIFIED:20260120T035433Z
UID:26330-1769284800-1769297400@fatmansgurnee.com
SUMMARY:Live Music at Fatmans
DESCRIPTION:
URL:https://fatmansgurnee.com/event/live-music-at-fatmans
LOCATION:Fatmans\, 36309 N Rte. 41\, Gurnee\, 60031\, United States
CATEGORIES:Events,Live Music
ATTACH;FMTTYPE=image/png:https://fatmansgurnee.com/wp-content/uploads/2026/01/Fatmans-winter-music-line-up-1-2026-e1768879160796.png
END:VEVENT
BEGIN:VEVENT
DTSTART;VALUE=DATE:20260121
DTEND;VALUE=DATE:20260122
DTSTAMP:20260422T073117
CREATED:20241030T013120Z
LAST-MODIFIED:20241030T013120Z
UID:26459-1768953600-1769039999@fatmansgurnee.com
SUMMARY:Bingo Night
DESCRIPTION:
URL:https://fatmansgurnee.com/event/bingo-night-2026-01-21
LOCATION:Fatmans\, 36309 N Rte. 41\, Gurnee\, 60031\, United States
CATEGORIES:Specials
ATTACH;FMTTYPE=image/jpeg:https://fatmansgurnee.com/wp-content/uploads/2024/10/Fatmans-Bingo-Night.jpeg
END:VEVENT
BEGIN:VEVENT
DTSTART;VALUE=DATE:20260114
DTEND;VALUE=DATE:20260115
DTSTAMP:20260422T073117
CREATED:20241030T013120Z
LAST-MODIFIED:20241030T013120Z
UID:26458-1768348800-1768435199@fatmansgurnee.com
SUMMARY:Bingo Night
DESCRIPTION:
URL:https://fatmansgurnee.com/event/bingo-night-2026-01-14
LOCATION:Fatmans\, 36309 N Rte. 41\, Gurnee\, 60031\, United States
CATEGORIES:Specials
ATTACH;FMTTYPE=image/jpeg:https://fatmansgurnee.com/wp-content/uploads/2024/10/Fatmans-Bingo-Night.jpeg
END:VEVENT
BEGIN:VEVENT
DTSTART;VALUE=DATE:20260107
DTEND;VALUE=DATE:20260108
DTSTAMP:20260422T073117
CREATED:20241030T013120Z
LAST-MODIFIED:20241030T013120Z
UID:26457-1767744000-1767830399@fatmansgurnee.com
SUMMARY:Bingo Night
DESCRIPTION:
URL:https://fatmansgurnee.com/event/bingo-night-2026-01-07
LOCATION:Fatmans\, 36309 N Rte. 41\, Gurnee\, 60031\, United States
CATEGORIES:Specials
ATTACH;FMTTYPE=image/jpeg:https://fatmansgurnee.com/wp-content/uploads/2024/10/Fatmans-Bingo-Night.jpeg
END:VEVENT
BEGIN:VEVENT
DTSTART;VALUE=DATE:20251231
DTEND;VALUE=DATE:20260101
DTSTAMP:20260422T073117
CREATED:20241030T013120Z
LAST-MODIFIED:20260120T033900Z
UID:26047-1767139200-1767225599@fatmansgurnee.com
SUMMARY:Bingo Night
DESCRIPTION:
URL:https://fatmansgurnee.com/event/bingo-night-2025-12-31
LOCATION:Fatmans\, 36309 N Rte. 41\, Gurnee\, 60031\, United States
CATEGORIES:Specials
ATTACH;FMTTYPE=image/jpeg:https://fatmansgurnee.com/wp-content/uploads/2024/10/Fatmans-Bingo-Night.jpeg
END:VEVENT
BEGIN:VEVENT
DTSTART;VALUE=DATE:20251224
DTEND;VALUE=DATE:20251225
DTSTAMP:20260422T073117
CREATED:20241030T013120Z
LAST-MODIFIED:20260120T033859Z
UID:26046-1766534400-1766620799@fatmansgurnee.com
SUMMARY:Bingo Night
DESCRIPTION:
URL:https://fatmansgurnee.com/event/bingo-night-2025-12-24
LOCATION:Fatmans\, 36309 N Rte. 41\, Gurnee\, 60031\, United States
CATEGORIES:Specials
ATTACH;FMTTYPE=image/jpeg:https://fatmansgurnee.com/wp-content/uploads/2024/10/Fatmans-Bingo-Night.jpeg
END:VEVENT
END:VCALENDAR