BEGIN:VCALENDAR
VERSION:2.0
PRODID:-//Fatmans - ECPv6.15.20//NONSGML v1.0//EN
CALSCALE:GREGORIAN
METHOD:PUBLISH
X-WR-CALNAME:Fatmans
X-ORIGINAL-URL:https://fatmansgurnee.com
X-WR-CALDESC:Events for Fatmans
REFRESH-INTERVAL;VALUE=DURATION:PT1H
X-Robots-Tag:noindex
X-PUBLISHED-TTL:PT1H
BEGIN:VTIMEZONE
TZID:America/Chicago
BEGIN:DAYLIGHT
TZOFFSETFROM:-0600
TZOFFSETTO:-0500
TZNAME:CDT
DTSTART:20240310T080000
END:DAYLIGHT
BEGIN:STANDARD
TZOFFSETFROM:-0500
TZOFFSETTO:-0600
TZNAME:CST
DTSTART:20241103T070000
END:STANDARD
BEGIN:DAYLIGHT
TZOFFSETFROM:-0600
TZOFFSETTO:-0500
TZNAME:CDT
DTSTART:20250309T080000
END:DAYLIGHT
BEGIN:STANDARD
TZOFFSETFROM:-0500
TZOFFSETTO:-0600
TZNAME:CST
DTSTART:20251102T070000
END:STANDARD
BEGIN:DAYLIGHT
TZOFFSETFROM:-0600
TZOFFSETTO:-0500
TZNAME:CDT
DTSTART:20260308T080000
END:DAYLIGHT
BEGIN:STANDARD
TZOFFSETFROM:-0500
TZOFFSETTO:-0600
TZNAME:CST
DTSTART:20261101T070000
END:STANDARD
END:VTIMEZONE
BEGIN:VEVENT
DTSTART;TZID=America/Chicago:20251031T200000
DTEND;TZID=America/Chicago:20251101T000000
DTSTAMP:20260422T182943
CREATED:20251024T145705Z
LAST-MODIFIED:20251024T145705Z
UID:26403-1761940800-1761955200@fatmansgurnee.com
SUMMARY:Halloween Party 2025
DESCRIPTION:
URL:https://fatmansgurnee.com/event/halloween-party-2025
LOCATION:Fatmans\, 36309 N Rte. 41\, Gurnee\, 60031\, United States
CATEGORIES:Events,Halloween
ATTACH;FMTTYPE=image/jpeg:https://fatmansgurnee.com/wp-content/uploads/2025/10/fatmans-halloween-2025-e1761317668234.jpg
END:VEVENT
END:VCALENDAR